FILENAME: O4710520.NES.1165022.tif
QUADRANGLE_NAME: HUDIBURGH RESERVOIR
QUADRANT: NE
WEST_LONGITUDE: -105 33 45.00000
EAST_LONGITUDE: -105 30 0.00000
NORTH_LATITUDE: 47 45 0.00000
SOUTH_LATITUDE: 47 41 15.00000
PRODUCTION_DATE: 2001 10 8
RASTER_ORDER: LEFT_RIGHT/TOP_BOTTOM
BAND_ORGANIZATION: SINGLE FILE
BAND_CONTENT: BLACK&WHITE
BAND_CONTENT: UNDEFINED
BAND_CONTENT: UNDEFINED
BITS_PER_PIXEL: 8
SAMPLES_AND_LINES: 5388 7591
HORIZONTAL_DATUM: NAD83
HORIZONTAL_COORDINATE_SYSTEM: UTM
COORDINATE_ZONE: 13
HORIZONTAL_UNITS: meters
HORIZONTAL_RESOLUTION: 1.00000
SECONDARY_HORIZONTAL_DATUM: NAD27
XY_ORIGIN: 457440.00000 5288975.00000
SECONDARY_XY_ORIGIN: 457480.11100 5288754.51300
NATION: US
STATE: MT
NW_QUAD_CORNER_XY: 457837.77200 5288667.57100
NE_QUAD_CORNER_XY: 462522.45200 5288635.41700
SE_QUAD_CORNERY_XY: 462477.60300 5281689.16900
SW_QUAD_CORNER_XY: 457787.31600 5281721.32900
SECONDARY_NW_QUAD_XY: 457836.45200 5288448.76100
SECONDARY_NE_QUAD_XY: 462521.27900 5288416.60700
SECONDARY_SE_QUAD_XY: 462476.43000 5281470.37700
SECONDARY_SW_QUAD_XY: 457785.99700 5281502.53800
RMSE_XY: 1.88000
IMAGE_SOURCE: BLACK AND WHITE FILM
SOURCE_IMAGE_ID: NAPP 9094-047
SOURCE_IMAGE_DATE: 1996 7 9
SOURCE_DEM_DATE: 1999 0 0
AGENCY: WESTERN MAPPING CENTER (WMC)
PRODUCER: WOOLPERT LLP
PRODUCTION_SYSTEM: INTERGRAPH ISPM, ISIR
COMPRESSION: UNDEFINED
STANDARD_VERSION: 1996 12
METADATA_DATE: 2001 10 8
DATA_FILE_SIZE: 40905696
BYTE_COUNT: 5388
