FILENAME: O4710520.NWS.1165023.tif
QUADRANGLE_NAME: HUDIBURGH RESERVOIR
QUADRANT: NW
WEST_LONGITUDE: -105 37 30.00000
EAST_LONGITUDE: -105 33 45.00000
NORTH_LATITUDE: 47 45 0.00000
SOUTH_LATITUDE: 47 41 15.00000
PRODUCTION_DATE: 2001 10 8
RASTER_ORDER: LEFT_RIGHT/TOP_BOTTOM
BAND_ORGANIZATION: SINGLE FILE
BAND_CONTENT: BLACK&WHITE
BAND_CONTENT: UNDEFINED
BAND_CONTENT: UNDEFINED
BITS_PER_PIXEL: 8
SAMPLES_AND_LINES: 5393 7595
HORIZONTAL_DATUM: NAD83
HORIZONTAL_COORDINATE_SYSTEM: UTM
COORDINATE_ZONE: 13
HORIZONTAL_UNITS: meters
HORIZONTAL_RESOLUTION: 1.00000
SECONDARY_HORIZONTAL_DATUM: NAD27
XY_ORIGIN: 452750.00000 5289011.00000
SECONDARY_XY_ORIGIN: 452790.16100 5288790.52700
NATION: US
STATE: MT
NW_QUAD_CORNER_XY: 453153.09700 5288703.50700
NE_QUAD_CORNER_XY: 457837.77200 5288667.57100
SE_QUAD_CORNERY_XY: 457787.31600 5281721.32900
SW_QUAD_CORNER_XY: 453097.03500 5281757.27300
SECONDARY_NW_QUAD_XY: 453151.63000 5288484.69900
SECONDARY_NE_QUAD_XY: 457836.45200 5288448.76100
SECONDARY_SE_QUAD_XY: 457785.99700 5281502.53800
SECONDARY_SW_QUAD_XY: 453095.56800 5281538.48300
RMSE_XY: 2.24000
IMAGE_SOURCE: BLACK AND WHITE FILM
SOURCE_IMAGE_ID: NAPP 9105-173
SOURCE_IMAGE_DATE: 1996 8 1
SOURCE_IMAGE_ID: NAPP 9105-172
SOURCE_IMAGE_DATE: 1996 8 1
SOURCE_IMAGE_ID: NAPP 9105-096
SOURCE_IMAGE_DATE: 1996 8 1
SOURCE_DEM_DATE: 1999 0 0
AGENCY: WESTERN MAPPING CENTER (WMC)
PRODUCER: WOOLPERT LLP
PRODUCTION_SYSTEM: INTERGRAPH ISPM, ISIR
COMPRESSION: UNDEFINED
STANDARD_VERSION: 1996 12
METADATA_DATE: 2001 10 22
DATA_FILE_SIZE: 40965228
BYTE_COUNT: 5393
