FILENAME: O4710520.SES.1165024.tif
QUADRANGLE_NAME: HUDIBURGH RESERVOIR
QUADRANT: SE
WEST_LONGITUDE: -105 33 45.00000
EAST_LONGITUDE: -105 30 0.00000
NORTH_LATITUDE: 47 41 15.00000
SOUTH_LATITUDE: 47 37 30.00000
PRODUCTION_DATE: 2001 10 8
RASTER_ORDER: LEFT_RIGHT/TOP_BOTTOM
BAND_ORGANIZATION: SINGLE FILE
BAND_CONTENT: BLACK&WHITE
BAND_CONTENT: UNDEFINED
BAND_CONTENT: UNDEFINED
BITS_PER_PIXEL: 8
SAMPLES_AND_LINES: 5393 7591
HORIZONTAL_DATUM: NAD83
HORIZONTAL_COORDINATE_SYSTEM: UTM
COORDINATE_ZONE: 13
HORIZONTAL_UNITS: meters
HORIZONTAL_RESOLUTION: 1.00000
SECONDARY_HORIZONTAL_DATUM: NAD27
XY_ORIGIN: 457390.00000 5282028.00000
SECONDARY_XY_ORIGIN: 457430.17800 5281807.62200
NATION: US
STATE: MT
NW_QUAD_CORNER_XY: 457787.31600 5281721.32900
NE_QUAD_CORNER_XY: 462477.60300 5281689.16900
SE_QUAD_CORNERY_XY: 462432.79900 5274742.99500
SW_QUAD_CORNER_XY: 457736.91200 5274775.16200
SECONDARY_NW_QUAD_XY: 457785.99700 5281502.53800
SECONDARY_NE_QUAD_XY: 462476.43000 5281470.37700
SECONDARY_SE_QUAD_XY: 462431.62600 5274524.22300
SECONDARY_SW_QUAD_XY: 457735.59200 5274556.39000
RMSE_XY: 2.22000
IMAGE_SOURCE: BLACK AND WHITE FILM
SOURCE_IMAGE_ID: NAPP 9094-045
SOURCE_IMAGE_DATE: 1996 7 9
SOURCE_DEM_DATE: 1999 0 0
AGENCY: WESTERN MAPPING CENTER (WMC)
PRODUCER: WOOLPERT LLP
PRODUCTION_SYSTEM: INTERGRAPH ISPM, ISIR
COMPRESSION: UNDEFINED
STANDARD_VERSION: 1996 12
METADATA_DATE: 2001 10 8
DATA_FILE_SIZE: 40943656
BYTE_COUNT: 5393
