FILENAME: O4710519.NWS.1165011.tif
QUADRANGLE_NAME: HUDIBURGH RESERVOIR NW
QUADRANT: NW
WEST_LONGITUDE: -105 45 0.00000
EAST_LONGITUDE: -105 41 15.00000
NORTH_LATITUDE: 47 45 0.00000
SOUTH_LATITUDE: 47 41 15.00000
PRODUCTION_DATE: 2001 10 10
RASTER_ORDER: LEFT_RIGHT/TOP_BOTTOM
BAND_ORGANIZATION: SINGLE FILE
BAND_CONTENT: BLACK&WHITE
BAND_CONTENT: UNDEFINED
BAND_CONTENT: UNDEFINED
BITS_PER_PIXEL: 8
SAMPLES_AND_LINES: 5405 7602
HORIZONTAL_DATUM: NAD83
HORIZONTAL_COORDINATE_SYSTEM: UTM
COORDINATE_ZONE: 13
HORIZONTAL_UNITS: meters
HORIZONTAL_RESOLUTION: 1.00000
SECONDARY_HORIZONTAL_DATUM: NAD27
XY_ORIGIN: 443369.00000 5289094.00000
SECONDARY_XY_ORIGIN: 443409.26000 5288873.55600
NATION: US
STATE: MT
NW_QUAD_CORNER_XY: 443783.76200 5288786.73000
NE_QUAD_CORNER_XY: 448468.42700 5288743.22700
SE_QUAD_CORNERY_XY: 448406.75800 5281797.00000
SW_QUAD_CORNER_XY: 443716.48700 5281840.51200
SECONDARY_NW_QUAD_XY: 443782.00200 5288567.92400
SECONDARY_NE_QUAD_XY: 448466.81300 5288524.42000
SECONDARY_SE_QUAD_XY: 448405.14500 5281578.21200
SECONDARY_SW_QUAD_XY: 443714.72700 5281621.72500
RMSE_XY: 2.08000
IMAGE_SOURCE: BLACK AND WHITE FILM
SOURCE_IMAGE_ID: NAPP 9086-196
SOURCE_IMAGE_DATE: 1996 6 13
SOURCE_IMAGE_ID: NAPP 9105-096
SOURCE_IMAGE_DATE: 1996 8 1
SOURCE_IMAGE_ID: NAPP 9086-198
SOURCE_IMAGE_DATE: 1996 6 13
SOURCE_DEM_DATE: 1999 0 0
AGENCY: WESTERN MAPPING CENTER (WMC)
PRODUCER: WOOLPERT LLP
PRODUCTION_SYSTEM: INTERGRAPH ISPM, ISIR
COMPRESSION: UNDEFINED
STANDARD_VERSION: 1996 12
METADATA_DATE: 2001 10 20
DATA_FILE_SIZE: 41094215
BYTE_COUNT: 5405
