FILENAME: O4710519.SES.1165012.tif
QUADRANGLE_NAME: HUDIBURGH RESERVOIR NW
QUADRANT: SE
WEST_LONGITUDE: -105 41 15.00000
EAST_LONGITUDE: -105 37 30.00000
NORTH_LATITUDE: 47 41 15.00000
SOUTH_LATITUDE: 47 37 30.00000
PRODUCTION_DATE: 2001 10 10
RASTER_ORDER: LEFT_RIGHT/TOP_BOTTOM
BAND_ORGANIZATION: SINGLE FILE
BAND_CONTENT: BLACK&WHITE
BAND_CONTENT: UNDEFINED
BAND_CONTENT: UNDEFINED
BITS_PER_PIXEL: 8
SAMPLES_AND_LINES: 5405 7598
HORIZONTAL_DATUM: NAD83
HORIZONTAL_COORDINATE_SYSTEM: UTM
COORDINATE_ZONE: 13
HORIZONTAL_UNITS: meters
HORIZONTAL_RESOLUTION: 1.00000
SECONDARY_HORIZONTAL_DATUM: NAD27
XY_ORIGIN: 447998.00000 5282104.00000
SECONDARY_XY_ORIGIN: 448038.28500 5281883.66700
NATION: US
STATE: MT
NW_QUAD_CORNER_XY: 448406.75800 5281797.00000
NE_QUAD_CORNER_XY: 453097.03500 5281757.27300
SE_QUAD_CORNERY_XY: 453041.02900 5274811.11300
SW_QUAD_CORNER_XY: 448345.15100 5274850.84800
SECONDARY_NW_QUAD_XY: 448405.14500 5281578.21200
SECONDARY_NE_QUAD_XY: 453095.56800 5281538.48300
SECONDARY_SE_QUAD_XY: 453039.56300 5274592.34200
SECONDARY_SW_QUAD_XY: 448343.53800 5274632.07900
RMSE_XY: 1.74000
IMAGE_SOURCE: BLACK AND WHITE FILM
SOURCE_IMAGE_ID: NAPP 9105-093
SOURCE_IMAGE_DATE: 1996 8 1
SOURCE_DEM_DATE: 1999 0 0
AGENCY: WESTERN MAPPING CENTER (WMC)
PRODUCER: WOOLPERT LLP
PRODUCTION_SYSTEM: INTERGRAPH ISPM, ISIR
COMPRESSION: UNDEFINED
STANDARD_VERSION: 1996 12
METADATA_DATE: 2001 10 10
DATA_FILE_SIZE: 41072595
BYTE_COUNT: 5405
