FILENAME: O4710519.SWS.1165013.tif
QUADRANGLE_NAME: HUDIBURGH RESERVOIR NW
QUADRANT: SW
WEST_LONGITUDE: -105 45 0.00000
EAST_LONGITUDE: -105 41 15.00000
NORTH_LATITUDE: 47 41 15.00000
SOUTH_LATITUDE: 47 37 30.00000
PRODUCTION_DATE: 2001 10 10
RASTER_ORDER: LEFT_RIGHT/TOP_BOTTOM
BAND_ORGANIZATION: SINGLE FILE
BAND_CONTENT: BLACK&WHITE
BAND_CONTENT: UNDEFINED
BAND_CONTENT: UNDEFINED
BITS_PER_PIXEL: 8
SAMPLES_AND_LINES: 5410 7603
HORIZONTAL_DATUM: NAD83
HORIZONTAL_COORDINATE_SYSTEM: UTM
COORDINATE_ZONE: 13
HORIZONTAL_UNITS: meters
HORIZONTAL_RESOLUTION: 1.00000
SECONDARY_HORIZONTAL_DATUM: NAD27
XY_ORIGIN: 443302.00000 5282148.00000
SECONDARY_XY_ORIGIN: 443342.33700 5281927.69100
NATION: US
STATE: MT
NW_QUAD_CORNER_XY: 443716.48700 5281840.51200
NE_QUAD_CORNER_XY: 448406.75800 5281797.00000
SE_QUAD_CORNERY_XY: 448345.15100 5274850.84800
SW_QUAD_CORNER_XY: 443649.27900 5274894.36900
SECONDARY_NW_QUAD_XY: 443714.72700 5281621.72500
SECONDARY_NE_QUAD_XY: 448405.14500 5281578.21200
SECONDARY_SE_QUAD_XY: 448343.53800 5274632.07900
SECONDARY_SW_QUAD_XY: 443647.51900 5274675.60100
RMSE_XY: 1.96000
IMAGE_SOURCE: BLACK AND WHITE FILM
SOURCE_IMAGE_ID: NAPP 9086-198
SOURCE_IMAGE_DATE: 1996 6 13
SOURCE_DEM_DATE: 1999 0 0
AGENCY: WESTERN MAPPING CENTER (WMC)
PRODUCER: WOOLPERT LLP
PRODUCTION_SYSTEM: INTERGRAPH ISPM, ISIR
COMPRESSION: UNDEFINED
STANDARD_VERSION: 1996 12
METADATA_DATE: 2001 10 10
DATA_FILE_SIZE: 41137640
BYTE_COUNT: 5410
