FILENAME: O4710518.NWS.1164999.tif
QUADRANGLE_NAME: PEDIGO COULEE
QUADRANT: NW
WEST_LONGITUDE: -105 52 30.00000
EAST_LONGITUDE: -105 48 45.00000
NORTH_LATITUDE: 47 45 0.00000
SOUTH_LATITUDE: 47 41 15.00000
PRODUCTION_DATE: 2001 10 11
RASTER_ORDER: LEFT_RIGHT/TOP_BOTTOM
BAND_ORGANIZATION: SINGLE FILE
BAND_CONTENT: BLACK&WHITE
BAND_CONTENT: UNDEFINED
BAND_CONTENT: UNDEFINED
BITS_PER_PIXEL: 8
SAMPLES_AND_LINES: 5417 7610
HORIZONTAL_DATUM: NAD83
HORIZONTAL_COORDINATE_SYSTEM: UTM
COORDINATE_ZONE: 13
HORIZONTAL_UNITS: meters
HORIZONTAL_RESOLUTION: 1.00000
SECONDARY_HORIZONTAL_DATUM: NAD27
XY_ORIGIN: 433988.00000 5289192.00000
SECONDARY_XY_ORIGIN: 434028.31600 5288971.61300
NATION: US
STATE: MT
NW_QUAD_CORNER_XY: 434414.45300 5288885.08500
NE_QUAD_CORNER_XY: 439099.10400 5288834.01600
SE_QUAD_CORNERY_XY: 439026.22200 5281887.80700
SW_QUAD_CORNER_XY: 434335.96400 5281938.88700
SECONDARY_NW_QUAD_XY: 434412.40000 5288666.28200
SECONDARY_NE_QUAD_XY: 439097.19800 5288615.21100
SECONDARY_SE_QUAD_XY: 439024.31600 5281669.02200
SECONDARY_SW_QUAD_XY: 434333.91100 5281720.10300
RMSE_XY: 2.11000
IMAGE_SOURCE: BLACK AND WHITE FILM
SOURCE_IMAGE_ID: NAPP 11000-021
SOURCE_IMAGE_DATE: 1998 7 13
SOURCE_IMAGE_ID: NAPP 9088-098
SOURCE_IMAGE_DATE: 1996 7 7
SOURCE_DEM_DATE: 1999 0 0
AGENCY: WESTERN MAPPING CENTER (WMC)
PRODUCER: WOOLPERT LLP
PRODUCTION_SYSTEM: INTERGRAPH ISPM, ISIR
COMPRESSION: UNDEFINED
STANDARD_VERSION: 1996 12
METADATA_DATE: 2001 10 25
DATA_FILE_SIZE: 41228787
BYTE_COUNT: 5417
