FILENAME: O4710518.SES.1165000.tif
QUADRANGLE_NAME: PEDIGO COULEE
QUADRANT: SE
WEST_LONGITUDE: -105 48 45.00000
EAST_LONGITUDE: -105 45 0.00000
NORTH_LATITUDE: 47 41 15.00000
SOUTH_LATITUDE: 47 37 30.00000
PRODUCTION_DATE: 2001 10 11
RASTER_ORDER: LEFT_RIGHT/TOP_BOTTOM
BAND_ORGANIZATION: SINGLE FILE
BAND_CONTENT: BLACK&WHITE
BAND_CONTENT: UNDEFINED
BAND_CONTENT: UNDEFINED
BITS_PER_PIXEL: 8
SAMPLES_AND_LINES: 5416 7606
HORIZONTAL_DATUM: NAD83
HORIZONTAL_COORDINATE_SYSTEM: UTM
COORDINATE_ZONE: 13
HORIZONTAL_UNITS: meters
HORIZONTAL_RESOLUTION: 1.00000
SECONDARY_HORIZONTAL_DATUM: NAD27
XY_ORIGIN: 438606.00000 5282195.00000
SECONDARY_XY_ORIGIN: 438646.37400 5281974.73100
NATION: US
STATE: MT
NW_QUAD_CORNER_XY: 439026.22200 5281887.80700
NE_QUAD_CORNER_XY: 443716.48700 5281840.51200
SE_QUAD_CORNERY_XY: 443649.27900 5274894.36900
SW_QUAD_CORNER_XY: 438953.41300 5274941.67400
SECONDARY_NW_QUAD_XY: 439024.31600 5281669.02200
SECONDARY_NE_QUAD_XY: 443714.72700 5281621.72500
SECONDARY_SE_QUAD_XY: 443647.51900 5274675.60100
SECONDARY_SW_QUAD_XY: 438951.50700 5274722.90700
RMSE_XY: 1.78000
IMAGE_SOURCE: BLACK AND WHITE FILM
SOURCE_IMAGE_ID: NAPP 9086-167
SOURCE_IMAGE_DATE: 1996 6 13
SOURCE_IMAGE_ID: NAPP 9086-166
SOURCE_IMAGE_DATE: 1996 6 13
SOURCE_DEM_DATE: 1999 0 0
AGENCY: WESTERN MAPPING CENTER (WMC)
PRODUCER: WOOLPERT LLP
PRODUCTION_SYSTEM: INTERGRAPH ISPM, ISIR
COMPRESSION: UNDEFINED
STANDARD_VERSION: 1996 12
METADATA_DATE: 2001 10 20
DATA_FILE_SIZE: 41199512
BYTE_COUNT: 5416
