FILENAME: O4710518.SWS.1165001.tif
QUADRANGLE_NAME: PEDIGO COULEE
QUADRANT: SW
WEST_LONGITUDE: -105 52 30.00000
EAST_LONGITUDE: -105 48 45.00000
NORTH_LATITUDE: 47 41 15.00000
SOUTH_LATITUDE: 47 37 30.00000
PRODUCTION_DATE: 2001 10 11
RASTER_ORDER: LEFT_RIGHT/TOP_BOTTOM
BAND_ORGANIZATION: SINGLE FILE
BAND_CONTENT: BLACK&WHITE
BAND_CONTENT: UNDEFINED
BAND_CONTENT: UNDEFINED
BITS_PER_PIXEL: 8
SAMPLES_AND_LINES: 5423 7610
HORIZONTAL_DATUM: NAD83
HORIZONTAL_COORDINATE_SYSTEM: UTM
COORDINATE_ZONE: 13
HORIZONTAL_UNITS: meters
HORIZONTAL_RESOLUTION: 1.00000
SECONDARY_HORIZONTAL_DATUM: NAD27
XY_ORIGIN: 433909.00000 5282246.00000
SECONDARY_XY_ORIGIN: 433949.41100 5282025.77000
NATION: US
STATE: MT
NW_QUAD_CORNER_XY: 434335.96400 5281938.88700
NE_QUAD_CORNER_XY: 439026.22200 5281887.80700
SE_QUAD_CORNERY_XY: 438953.41300 5274941.67400
SW_QUAD_CORNER_XY: 434257.55300 5274992.76400
SECONDARY_NW_QUAD_XY: 434333.91100 5281720.10300
SECONDARY_NE_QUAD_XY: 439024.31600 5281669.02200
SECONDARY_SE_QUAD_XY: 438951.50700 5274722.90700
SECONDARY_SW_QUAD_XY: 434255.50000 5274773.99900
RMSE_XY: 2.04000
IMAGE_SOURCE: BLACK AND WHITE FILM
SOURCE_IMAGE_ID: NAPP 11000-019
SOURCE_IMAGE_DATE: 1998 7 13
SOURCE_IMAGE_ID: NAPP 11000-018
SOURCE_IMAGE_DATE: 1998 7 13
SOURCE_IMAGE_ID: NAPP 9086-166
SOURCE_IMAGE_DATE: 1996 6 13
SOURCE_DEM_DATE: 1999 0 0
AGENCY: WESTERN MAPPING CENTER (WMC)
PRODUCER: WOOLPERT LLP
PRODUCTION_SYSTEM: INTERGRAPH ISPM, ISIR
COMPRESSION: UNDEFINED
STANDARD_VERSION: 1996 12
METADATA_DATE: 2001 10 20
DATA_FILE_SIZE: 41274453
BYTE_COUNT: 5423
