FILENAME: O4710517.SES.1164988.tif
QUADRANGLE_NAME: FIGURE EIGHT CREEK
QUADRANT: SE
WEST_LONGITUDE: -105 56 15.00000
EAST_LONGITUDE: -105 52 30.00000
NORTH_LATITUDE: 47 41 15.00000
SOUTH_LATITUDE: 47 37 30.00000
PRODUCTION_DATE: 2001 10 14
RASTER_ORDER: LEFT_RIGHT/TOP_BOTTOM
BAND_ORGANIZATION: SINGLE FILE
BAND_CONTENT: BLACK&WHITE
BAND_CONTENT: UNDEFINED
BAND_CONTENT: UNDEFINED
BITS_PER_PIXEL: 8
SAMPLES_AND_LINES: 5428 7614
HORIZONTAL_DATUM: NAD83
HORIZONTAL_COORDINATE_SYSTEM: UTM
COORDINATE_ZONE: 13
HORIZONTAL_UNITS: meters
HORIZONTAL_RESOLUTION: 1.00000
SECONDARY_HORIZONTAL_DATUM: NAD27
XY_ORIGIN: 429213.00000 5282301.00000
SECONDARY_XY_ORIGIN: 429253.44800 5282080.81000
NATION: US
STATE: MT
NW_QUAD_CORNER_XY: 429645.71300 5281993.75100
NE_QUAD_CORNER_XY: 434335.96400 5281938.88700
SE_QUAD_CORNERY_XY: 434257.55300 5274992.76400
SW_QUAD_CORNER_XY: 429561.70100 5275047.63800
SECONDARY_NW_QUAD_XY: 429643.51300 5281774.96900
SECONDARY_NE_QUAD_XY: 434333.91100 5281720.10300
SECONDARY_SE_QUAD_XY: 434255.50000 5274773.99900
SECONDARY_SW_QUAD_XY: 429559.50100 5274828.87600
RMSE_XY: 2.17000
IMAGE_SOURCE: BLACK AND WHITE FILM
SOURCE_IMAGE_ID: NAPP 9088-095
SOURCE_IMAGE_DATE: 1996 7 7
SOURCE_IMAGE_ID: NAPP 11000-018
SOURCE_IMAGE_DATE: 1998 7 13
SOURCE_DEM_DATE: 1999 0 0
AGENCY: WESTERN MAPPING CENTER (WMC)
PRODUCER: WOOLPERT LLP
PRODUCTION_SYSTEM: INTERGRAPH ISPM, ISIR
COMPRESSION: UNDEFINED
STANDARD_VERSION: 1996 12
METADATA_DATE: 2001 10 20
DATA_FILE_SIZE: 41334220
BYTE_COUNT: 5428
