FILENAME: O4710517.SWS.1164989.tif
QUADRANGLE_NAME: FIGURE EIGHT CREEK
QUADRANT: SW
WEST_LONGITUDE: -106 0 0.00000
EAST_LONGITUDE: -105 56 15.00000
NORTH_LATITUDE: 47 41 15.00000
SOUTH_LATITUDE: 47 37 30.00000
PRODUCTION_DATE: 2001 10 14
RASTER_ORDER: LEFT_RIGHT/TOP_BOTTOM
BAND_ORGANIZATION: SINGLE FILE
BAND_CONTENT: BLACK&WHITE
BAND_CONTENT: UNDEFINED
BAND_CONTENT: UNDEFINED
BITS_PER_PIXEL: 8
SAMPLES_AND_LINES: 5434 7617
HORIZONTAL_DATUM: NAD83
HORIZONTAL_COORDINATE_SYSTEM: UTM
COORDINATE_ZONE: 13
HORIZONTAL_UNITS: meters
HORIZONTAL_RESOLUTION: 1.00000
SECONDARY_HORIZONTAL_DATUM: NAD27
XY_ORIGIN: 424517.00000 5282359.00000
SECONDARY_XY_ORIGIN: 424557.48800 5282138.84600
NATION: US
STATE: MT
NW_QUAD_CORNER_XY: 424955.47000 5282052.39900
NE_QUAD_CORNER_XY: 429645.71300 5281993.75100
SE_QUAD_CORNERY_XY: 429561.70100 5275047.63800
SW_QUAD_CORNER_XY: 424865.85600 5275106.29800
SECONDARY_NW_QUAD_XY: 424953.12300 5281833.61900
SECONDARY_NE_QUAD_XY: 429643.51300 5281774.96900
SECONDARY_SE_QUAD_XY: 429559.50100 5274828.87600
SECONDARY_SW_QUAD_XY: 424863.51000 5274887.53700
RMSE_XY: 1.74000
IMAGE_SOURCE: BLACK AND WHITE FILM
SOURCE_IMAGE_ID: NAPP 9088-167
SOURCE_IMAGE_DATE: 1996 7 7
SOURCE_DEM_DATE: 1999 0 0
AGENCY: WESTERN MAPPING CENTER (WMC)
PRODUCER: WOOLPERT LLP
PRODUCTION_SYSTEM: INTERGRAPH ISPM, ISIR
COMPRESSION: UNDEFINED
STANDARD_VERSION: 1996 12
METADATA_DATE: 2001 10 14
DATA_FILE_SIZE: 41396212
BYTE_COUNT: 5434
