FILENAME: O4710516.NES.1165267.tif
QUADRANGLE_NAME: DUPLISSE CREEK SOUTH
QUADRANT: NE
WEST_LONGITUDE: -105 3 45.00000
EAST_LONGITUDE: -105 0 0.00000
NORTH_LATITUDE: 47 52 30.00000
SOUTH_LATITUDE: 47 48 45.00000
PRODUCTION_DATE: 2001 9 19
RASTER_ORDER: LEFT_RIGHT/TOP_BOTTOM
BAND_ORGANIZATION: SINGLE FILE
BAND_CONTENT: BLACK&WHITE
BAND_CONTENT: UNDEFINED
BAND_CONTENT: UNDEFINED
BITS_PER_PIXEL: 8
SAMPLES_AND_LINES: 5329 7561
HORIZONTAL_DATUM: NAD83
HORIZONTAL_COORDINATE_SYSTEM: UTM
COORDINATE_ZONE: 13
HORIZONTAL_UNITS: meters
HORIZONTAL_RESOLUTION: 1.00000
SECONDARY_HORIZONTAL_DATUM: NAD27
XY_ORIGIN: 494976.00000 5302716.00000
SECONDARY_XY_ORIGIN: 495015.58100 5302495.22500
NATION: US
STATE: MT
NW_QUAD_CORNER_XY: 495326.53000 5302409.03600
NE_QUAD_CORNER_XY: 500000.00000 5302407.14500
SE_QUAD_CORNERY_XY: 500000.00000 5295460.72000
SW_QUAD_CORNER_XY: 495320.91300 5295462.61100
SECONDARY_NW_QUAD_XY: 495326.38300 5302190.18700
SECONDARY_NE_QUAD_XY: 500000.00000 5302188.29600
SECONDARY_SE_QUAD_XY: 500000.00000 5295241.88800
SECONDARY_SW_QUAD_XY: 495320.76600 5295243.77900
RMSE_XY: 2.11000
IMAGE_SOURCE: BLACK AND WHITE FILM
SOURCE_IMAGE_ID: NAPP 9108-151
SOURCE_IMAGE_DATE: 1996 8 8
SOURCE_DEM_DATE: 1999 0 0
AGENCY: WESTERN MAPPING CENTER (WMC)
PRODUCER: WOOLPERT LLP
PRODUCTION_SYSTEM: INTERGRAPH ISPM, ISIR
COMPRESSION: UNDEFINED
STANDARD_VERSION: 1996 12
METADATA_DATE: 2001 9 19
DATA_FILE_SIZE: 40297898
BYTE_COUNT: 5329
