FILENAME: O4710516.SES.1165269.tif
QUADRANGLE_NAME: DUPLISSE CREEK SOUTH
QUADRANT: SE
WEST_LONGITUDE: -105 3 45.00000
EAST_LONGITUDE: -105 0 0.00000
NORTH_LATITUDE: 47 48 45.00000
SOUTH_LATITUDE: 47 45 0.00000
PRODUCTION_DATE: 2001 9 19
RASTER_ORDER: LEFT_RIGHT/TOP_BOTTOM
BAND_ORGANIZATION: SINGLE FILE
BAND_CONTENT: BLACK&WHITE
BAND_CONTENT: UNDEFINED
BAND_CONTENT: UNDEFINED
BITS_PER_PIXEL: 8
SAMPLES_AND_LINES: 5335 7561
HORIZONTAL_DATUM: NAD83
HORIZONTAL_COORDINATE_SYSTEM: UTM
COORDINATE_ZONE: 13
HORIZONTAL_UNITS: meters
HORIZONTAL_RESOLUTION: 1.00000
SECONDARY_HORIZONTAL_DATUM: NAD27
XY_ORIGIN: 494970.00000 5295770.00000
SECONDARY_XY_ORIGIN: 495009.62400 5295549.31600
NATION: US
STATE: MT
NW_QUAD_CORNER_XY: 495320.91300 5295462.61100
NE_QUAD_CORNER_XY: 500000.00000 5295460.72000
SE_QUAD_CORNERY_XY: 500000.00000 5288514.37100
SW_QUAD_CORNER_XY: 495315.30100 5288516.26200
SECONDARY_NW_QUAD_XY: 495320.76600 5295243.77900
SECONDARY_NE_QUAD_XY: 500000.00000 5295241.88800
SECONDARY_SE_QUAD_XY: 500000.00000 5288295.55600
SECONDARY_SW_QUAD_XY: 495315.15400 5288297.44700
RMSE_XY: 2.01000
IMAGE_SOURCE: BLACK AND WHITE FILM
SOURCE_IMAGE_ID: NAPP 9108-153
SOURCE_IMAGE_DATE: 1996 8 8
SOURCE_DEM_DATE: 1999 0 0
AGENCY: WESTERN MAPPING CENTER (WMC)
PRODUCER: WOOLPERT LLP
PRODUCTION_SYSTEM: INTERGRAPH ISPM, ISIR
COMPRESSION: UNDEFINED
STANDARD_VERSION: 1996 12
METADATA_DATE: 2001 9 19
DATA_FILE_SIZE: 40343270
BYTE_COUNT: 5335
