FILENAME: O4710516.SWS.1165270.tif
QUADRANGLE_NAME: DUPLISSE CREEK SOUTH
QUADRANT: SW
WEST_LONGITUDE: -105 7 30.00000
EAST_LONGITUDE: -105 3 45.00000
NORTH_LATITUDE: 47 48 45.00000
SOUTH_LATITUDE: 47 45 0.00000
PRODUCTION_DATE: 2001 9 19
RASTER_ORDER: LEFT_RIGHT/TOP_BOTTOM
BAND_ORGANIZATION: SINGLE FILE
BAND_CONTENT: BLACK&WHITE
BAND_CONTENT: UNDEFINED
BAND_CONTENT: UNDEFINED
BITS_PER_PIXEL: 8
SAMPLES_AND_LINES: 5341 7565
HORIZONTAL_DATUM: NAD83
HORIZONTAL_COORDINATE_SYSTEM: UTM
COORDINATE_ZONE: 13
HORIZONTAL_UNITS: meters
HORIZONTAL_RESOLUTION: 1.00000
SECONDARY_HORIZONTAL_DATUM: NAD27
XY_ORIGIN: 490285.00000 5295776.00000
SECONDARY_XY_ORIGIN: 490324.67300 5295555.32000
NATION: US
STATE: MT
NW_QUAD_CORNER_XY: 490641.82600 5295468.28400
NE_QUAD_CORNER_XY: 495320.91300 5295462.61100
SE_QUAD_CORNERY_XY: 495315.30100 5288516.26200
SW_QUAD_CORNER_XY: 490630.60200 5288521.93600
SECONDARY_NW_QUAD_XY: 490641.53200 5295249.45200
SECONDARY_NE_QUAD_XY: 495320.76600 5295243.77900
SECONDARY_SE_QUAD_XY: 495315.15400 5288297.44700
SECONDARY_SW_QUAD_XY: 490630.30900 5288303.12200
RMSE_XY: 2.05000
IMAGE_SOURCE: BLACK AND WHITE FILM
SOURCE_IMAGE_ID: NAPP 9103-142
SOURCE_IMAGE_DATE: 1996 7 15
SOURCE_DEM_DATE: 1999 0 0
AGENCY: WESTERN MAPPING CENTER (WMC)
PRODUCER: WOOLPERT LLP
PRODUCTION_SYSTEM: INTERGRAPH ISPM, ISIR
COMPRESSION: UNDEFINED
STANDARD_VERSION: 1996 12
METADATA_DATE: 2001 9 19
DATA_FILE_SIZE: 40410006
BYTE_COUNT: 5341
