FILENAME: O4710515.NES.1165255.tif
QUADRANGLE_NAME: LISK CREEK
QUADRANT: NE
WEST_LONGITUDE: -105 11 15.00000
EAST_LONGITUDE: -105 7 30.00000
NORTH_LATITUDE: 47 52 30.00000
SOUTH_LATITUDE: 47 48 45.00000
PRODUCTION_DATE: 2001 10 1
RASTER_ORDER: LEFT_RIGHT/TOP_BOTTOM
BAND_ORGANIZATION: SINGLE FILE
BAND_CONTENT: BLACK&WHITE
BAND_CONTENT: UNDEFINED
BAND_CONTENT: UNDEFINED
BITS_PER_PIXEL: 8
SAMPLES_AND_LINES: 5342 7569
HORIZONTAL_DATUM: NAD83
HORIZONTAL_COORDINATE_SYSTEM: UTM
COORDINATE_ZONE: 13
HORIZONTAL_UNITS: meters
HORIZONTAL_RESOLUTION: 1.00000
SECONDARY_HORIZONTAL_DATUM: NAD27
XY_ORIGIN: 485617.00000 5302732.00000
SECONDARY_XY_ORIGIN: 485656.67400 5302511.23000
NATION: US
STATE: MT
NW_QUAD_CORNER_XY: 485979.59200 5302424.16000
NE_QUAD_CORNER_XY: 490653.06000 5302414.70800
SE_QUAD_CORNERY_XY: 490641.82600 5295468.28400
SW_QUAD_CORNER_XY: 485962.74000 5295477.73800
SECONDARY_NW_QUAD_XY: 485979.15200 5302205.31200
SECONDARY_NE_QUAD_XY: 490652.76700 5302195.85900
SECONDARY_SE_QUAD_XY: 490641.53200 5295249.45200
SECONDARY_SW_QUAD_XY: 485962.30000 5295258.90700
RMSE_XY: 2.10000
IMAGE_SOURCE: BLACK AND WHITE FILM
SOURCE_IMAGE_ID: NAPP 9103-195
SOURCE_IMAGE_DATE: 1996 7 15
SOURCE_DEM_DATE: 1999 0 0
AGENCY: WESTERN MAPPING CENTER (WMC)
PRODUCER: WOOLPERT LLP
PRODUCTION_SYSTEM: INTERGRAPH ISPM, ISIR
COMPRESSION: UNDEFINED
STANDARD_VERSION: 1996 12
METADATA_DATE: 2001 10 1
DATA_FILE_SIZE: 40438940
BYTE_COUNT: 5342
