FILENAME: O4710515.NWS.1165256.tif
QUADRANGLE_NAME: LISK CREEK
QUADRANT: NW
WEST_LONGITUDE: -105 15 0.00000
EAST_LONGITUDE: -105 11 15.00000
NORTH_LATITUDE: 47 52 30.00000
SOUTH_LATITUDE: 47 48 45.00000
PRODUCTION_DATE: 2001 10 1
RASTER_ORDER: LEFT_RIGHT/TOP_BOTTOM
BAND_ORGANIZATION: SINGLE FILE
BAND_CONTENT: BLACK&WHITE
BAND_CONTENT: UNDEFINED
BAND_CONTENT: UNDEFINED
BITS_PER_PIXEL: 8
SAMPLES_AND_LINES: 5347 7573
HORIZONTAL_DATUM: NAD83
HORIZONTAL_COORDINATE_SYSTEM: UTM
COORDINATE_ZONE: 13
HORIZONTAL_UNITS: meters
HORIZONTAL_RESOLUTION: 1.00000
SECONDARY_HORIZONTAL_DATUM: NAD27
XY_ORIGIN: 480938.00000 5302745.00000
SECONDARY_XY_ORIGIN: 480977.72100 5302524.23200
NATION: US
STATE: MT
NW_QUAD_CORNER_XY: 481306.12500 5302437.39400
NE_QUAD_CORNER_XY: 485979.59200 5302424.16000
SE_QUAD_CORNERY_XY: 485962.74000 5295477.73800
SW_QUAD_CORNER_XY: 481283.65600 5295490.97500
SECONDARY_NW_QUAD_XY: 481305.53800 5302218.54600
SECONDARY_NE_QUAD_XY: 485979.15200 5302205.31200
SECONDARY_SE_QUAD_XY: 485962.30000 5295258.90700
SECONDARY_SW_QUAD_XY: 481283.06900 5295272.14400
RMSE_XY: 2.20000
IMAGE_SOURCE: BLACK AND WHITE FILM
SOURCE_IMAGE_ID: NAPP 10725-024
SOURCE_IMAGE_DATE: 1997 9 2
SOURCE_DEM_DATE: 1999 0 0
AGENCY: WESTERN MAPPING CENTER (WMC)
PRODUCER: WOOLPERT LLP
PRODUCTION_SYSTEM: INTERGRAPH ISPM, ISIR
COMPRESSION: UNDEFINED
STANDARD_VERSION: 1996 12
METADATA_DATE: 2001 10 1
DATA_FILE_SIZE: 40498178
BYTE_COUNT: 5347
