FILENAME: O4710515.SWS.1165258.tif
QUADRANGLE_NAME: LISK CREEK
QUADRANT: SW
WEST_LONGITUDE: -105 15 0.00000
EAST_LONGITUDE: -105 11 15.00000
NORTH_LATITUDE: 47 48 45.00000
SOUTH_LATITUDE: 47 45 0.00000
PRODUCTION_DATE: 2001 10 1
RASTER_ORDER: LEFT_RIGHT/TOP_BOTTOM
BAND_ORGANIZATION: SINGLE FILE
BAND_CONTENT: BLACK&WHITE
BAND_CONTENT: UNDEFINED
BAND_CONTENT: UNDEFINED
BITS_PER_PIXEL: 8
SAMPLES_AND_LINES: 5353 7572
HORIZONTAL_DATUM: NAD83
HORIZONTAL_COORDINATE_SYSTEM: UTM
COORDINATE_ZONE: 13
HORIZONTAL_UNITS: meters
HORIZONTAL_RESOLUTION: 1.00000
SECONDARY_HORIZONTAL_DATUM: NAD27
XY_ORIGIN: 480915.00000 5295798.00000
SECONDARY_XY_ORIGIN: 480954.77300 5295577.32800
NATION: US
STATE: MT
NW_QUAD_CORNER_XY: 481283.65600 5295490.97500
NE_QUAD_CORNER_XY: 485962.74000 5295477.73800
SE_QUAD_CORNERY_XY: 485945.90500 5288531.39300
SW_QUAD_CORNER_XY: 481261.20900 5288544.63200
SECONDARY_NW_QUAD_XY: 481283.06900 5295272.14400
SECONDARY_NE_QUAD_XY: 485962.30000 5295258.90700
SECONDARY_SE_QUAD_XY: 485945.46500 5288312.57900
SECONDARY_SW_QUAD_XY: 481260.62300 5288325.81800
RMSE_XY: 2.50000
IMAGE_SOURCE: BLACK AND WHITE FILM
SOURCE_IMAGE_ID: NAPP 10725-022
SOURCE_IMAGE_DATE: 1997 9 2
SOURCE_DEM_DATE: 1999 0 0
AGENCY: WESTERN MAPPING CENTER (WMC)
PRODUCER: WOOLPERT LLP
PRODUCTION_SYSTEM: INTERGRAPH ISPM, ISIR
COMPRESSION: UNDEFINED
STANDARD_VERSION: 1996 12
METADATA_DATE: 2001 10 1
DATA_FILE_SIZE: 40538269
BYTE_COUNT: 5353
