FILENAME: O4710514.SES.1165245.tif
QUADRANGLE_NAME: KRAUT COULEE
QUADRANT: SE
WEST_LONGITUDE: -105 18 45.00000
EAST_LONGITUDE: -105 15 0.00000
NORTH_LATITUDE: 47 48 45.00000
SOUTH_LATITUDE: 47 45 0.00000
PRODUCTION_DATE: 2001 10 2
RASTER_ORDER: LEFT_RIGHT/TOP_BOTTOM
BAND_ORGANIZATION: SINGLE FILE
BAND_CONTENT: BLACK&WHITE
BAND_CONTENT: UNDEFINED
BAND_CONTENT: UNDEFINED
BITS_PER_PIXEL: 8
SAMPLES_AND_LINES: 5359 7576
HORIZONTAL_DATUM: NAD83
HORIZONTAL_COORDINATE_SYSTEM: UTM
COORDINATE_ZONE: 13
HORIZONTAL_UNITS: meters
HORIZONTAL_RESOLUTION: 1.00000
SECONDARY_HORIZONTAL_DATUM: NAD27
XY_ORIGIN: 476230.00000 5295815.00000
SECONDARY_XY_ORIGIN: 476269.83300 5295594.34100
NATION: US
STATE: MT
NW_QUAD_CORNER_XY: 476604.57400 5295507.99400
NE_QUAD_CORNER_XY: 481283.65600 5295490.97500
SE_QUAD_CORNERY_XY: 481261.20900 5288544.63200
SW_QUAD_CORNER_XY: 476576.51500 5288561.65400
SECONDARY_NW_QUAD_XY: 476603.84000 5295289.16300
SECONDARY_NE_QUAD_XY: 481283.06900 5295272.14400
SECONDARY_SE_QUAD_XY: 481260.62300 5288325.81800
SECONDARY_SW_QUAD_XY: 476575.78200 5288342.84100
RMSE_XY: 2.95000
IMAGE_SOURCE: BLACK AND WHITE FILM
SOURCE_IMAGE_ID: NAPP 9116-175
SOURCE_IMAGE_DATE: 1996 8 27
SOURCE_DEM_DATE: 1999 0 0
AGENCY: WESTERN MAPPING CENTER (WMC)
PRODUCER: WOOLPERT LLP
PRODUCTION_SYSTEM: INTERGRAPH ISPM, ISIR
COMPRESSION: UNDEFINED
STANDARD_VERSION: 1996 12
METADATA_DATE: 2001 10 2
DATA_FILE_SIZE: 40605143
BYTE_COUNT: 5359
