FILENAME: O4710513.NWS.1165232.tif
QUADRANGLE_NAME: VIDA
QUADRANT: NW
WEST_LONGITUDE: -105 30 0.00000
EAST_LONGITUDE: -105 26 15.00000
NORTH_LATITUDE: 47 52 30.00000
SOUTH_LATITUDE: 47 48 45.00000
PRODUCTION_DATE: 2001 9 28
RASTER_ORDER: LEFT_RIGHT/TOP_BOTTOM
BAND_ORGANIZATION: SINGLE FILE
BAND_CONTENT: BLACK&WHITE
BAND_CONTENT: UNDEFINED
BAND_CONTENT: UNDEFINED
BITS_PER_PIXEL: 8
SAMPLES_AND_LINES: 5370 7588
HORIZONTAL_DATUM: NAD83
HORIZONTAL_COORDINATE_SYSTEM: UTM
COORDINATE_ZONE: 13
HORIZONTAL_UNITS: meters
HORIZONTAL_RESOLUTION: 1.00000
SECONDARY_HORIZONTAL_DATUM: NAD27
XY_ORIGIN: 462221.00000 5302836.00000
SECONDARY_XY_ORIGIN: 462260.96900 5302615.26200
NATION: US
STATE: MT
NW_QUAD_CORNER_XY: 462612.28500 5302528.14100
NE_QUAD_CORNER_XY: 467285.74000 5302499.78300
SE_QUAD_CORNERY_XY: 467246.41800 5295553.37700
SW_QUAD_CORNER_XY: 462567.34600 5295581.74200
SECONDARY_NW_QUAD_XY: 462611.11100 5302309.29600
SECONDARY_NE_QUAD_XY: 467284.71300 5302280.93600
SECONDARY_SE_QUAD_XY: 467245.39200 5295334.54800
SECONDARY_SW_QUAD_XY: 462566.17300 5295362.91300
RMSE_XY: 2.69000
IMAGE_SOURCE: BLACK AND WHITE FILM
SOURCE_IMAGE_ID: NAPP 9093-167
SOURCE_IMAGE_DATE: 1996 7 9
SOURCE_DEM_DATE: 1999 0 0
AGENCY: WESTERN MAPPING CENTER (WMC)
PRODUCER: WOOLPERT LLP
PRODUCTION_SYSTEM: INTERGRAPH ISPM, ISIR
COMPRESSION: UNDEFINED
STANDARD_VERSION: 1996 12
METADATA_DATE: 2001 9 28
DATA_FILE_SIZE: 40752930
BYTE_COUNT: 5370
