FILENAME: O4710512.NES.1165018.tif
QUADRANGLE_NAME: LONE PINE SCHOOL
QUADRANT: NE
WEST_LONGITUDE: -105 33 45.00000
EAST_LONGITUDE: -105 30 0.00000
NORTH_LATITUDE: 47 52 30.00000
SOUTH_LATITUDE: 47 48 45.00000
PRODUCTION_DATE: 2001 10 8
RASTER_ORDER: LEFT_RIGHT/TOP_BOTTOM
BAND_ORGANIZATION: SINGLE FILE
BAND_CONTENT: BLACK&WHITE
BAND_CONTENT: UNDEFINED
BAND_CONTENT: UNDEFINED
BITS_PER_PIXEL: 8
SAMPLES_AND_LINES: 5377 7592
HORIZONTAL_DATUM: NAD83
HORIZONTAL_COORDINATE_SYSTEM: UTM
COORDINATE_ZONE: 13
HORIZONTAL_UNITS: meters
HORIZONTAL_RESOLUTION: 1.00000
SECONDARY_HORIZONTAL_DATUM: NAD27
XY_ORIGIN: 457541.00000 5302868.00000
SECONDARY_XY_ORIGIN: 457581.02600 5302647.24700
NATION: US
STATE: MT
NW_QUAD_CORNER_XY: 457938.83500 5302560.28100
NE_QUAD_CORNER_XY: 462612.28500 5302528.14100
SE_QUAD_CORNERY_XY: 462567.34600 5295581.74200
SW_QUAD_CORNER_XY: 457888.27800 5295613.88800
SECONDARY_NW_QUAD_XY: 457937.51400 5302341.43700
SECONDARY_NE_QUAD_XY: 462611.11100 5302309.29600
SECONDARY_SE_QUAD_XY: 462566.17300 5295362.91300
SECONDARY_SW_QUAD_XY: 457886.95800 5295395.06100
RMSE_XY: 2.13000
IMAGE_SOURCE: BLACK AND WHITE FILM
SOURCE_IMAGE_ID: NAPP 9094-051
SOURCE_IMAGE_DATE: 1996 7 9
SOURCE_IMAGE_ID: NAPP 9105-169
SOURCE_IMAGE_DATE: 1996 8 1
SOURCE_IMAGE_ID: NAPP 9094-050
SOURCE_IMAGE_DATE: 1996 7 9
SOURCE_DEM_DATE: 1999 0 0
AGENCY: WESTERN MAPPING CENTER (WMC)
PRODUCER: WOOLPERT LLP
PRODUCTION_SYSTEM: INTERGRAPH ISPM, ISIR
COMPRESSION: UNDEFINED
STANDARD_VERSION: 1996 12
METADATA_DATE: 2001 10 22
DATA_FILE_SIZE: 40827561
BYTE_COUNT: 5377
