FILENAME: O4710512.SWS.1165021.tif
QUADRANGLE_NAME: LONE PINE SCHOOL
QUADRANT: SW
WEST_LONGITUDE: -105 37 30.00000
EAST_LONGITUDE: -105 33 45.00000
NORTH_LATITUDE: 47 48 45.00000
SOUTH_LATITUDE: 47 45 0.00000
PRODUCTION_DATE: 2001 10 8
RASTER_ORDER: LEFT_RIGHT/TOP_BOTTOM
BAND_ORGANIZATION: SINGLE FILE
BAND_CONTENT: BLACK&WHITE
BAND_CONTENT: UNDEFINED
BAND_CONTENT: UNDEFINED
BITS_PER_PIXEL: 8
SAMPLES_AND_LINES: 5388 7595
HORIZONTAL_DATUM: NAD83
HORIZONTAL_COORDINATE_SYSTEM: UTM
COORDINATE_ZONE: 13
HORIZONTAL_UNITS: meters
HORIZONTAL_RESOLUTION: 1.00000
SECONDARY_HORIZONTAL_DATUM: NAD27
XY_ORIGIN: 452806.00000 5295957.00000
SECONDARY_XY_ORIGIN: 452846.12200 5295736.37900
NATION: US
STATE: MT
NW_QUAD_CORNER_XY: 453209.21500 5295649.81700
NE_QUAD_CORNER_XY: 457888.27800 5295613.88800
SE_QUAD_CORNERY_XY: 457837.77200 5288667.57100
SW_QUAD_CORNER_XY: 453153.09700 5288703.50700
SECONDARY_NW_QUAD_XY: 453207.74800 5295430.99100
SECONDARY_NE_QUAD_XY: 457886.95800 5295395.06100
SECONDARY_SE_QUAD_XY: 457836.45200 5288448.76100
SECONDARY_SW_QUAD_XY: 453151.63000 5288484.69900
RMSE_XY: 2.18000
IMAGE_SOURCE: BLACK AND WHITE FILM
SOURCE_IMAGE_ID: NAPP 9105-171
SOURCE_IMAGE_DATE: 1996 8 1
SOURCE_IMAGE_ID: NAPP 9105-172
SOURCE_IMAGE_DATE: 1996 8 1
SOURCE_IMAGE_ID: NAPP 9105-096
SOURCE_IMAGE_DATE: 1996 8 1
SOURCE_DEM_DATE: 1999 0 0
AGENCY: WESTERN MAPPING CENTER (WMC)
PRODUCER: WOOLPERT LLP
PRODUCTION_SYSTEM: INTERGRAPH ISPM, ISIR
COMPRESSION: UNDEFINED
STANDARD_VERSION: 1996 12
METADATA_DATE: 2001 10 22
DATA_FILE_SIZE: 40927248
BYTE_COUNT: 5388
