FILENAME: O4710511.NWS.1165007.tif
QUADRANGLE_NAME: DAILEY SPRING
QUADRANT: NW
WEST_LONGITUDE: -105 45 0.00000
EAST_LONGITUDE: -105 41 15.00000
NORTH_LATITUDE: 47 52 30.00000
SOUTH_LATITUDE: 47 48 45.00000
PRODUCTION_DATE: 2001 10 10
RASTER_ORDER: LEFT_RIGHT/TOP_BOTTOM
BAND_ORGANIZATION: SINGLE FILE
BAND_CONTENT: BLACK&WHITE
BAND_CONTENT: UNDEFINED
BAND_CONTENT: UNDEFINED
BITS_PER_PIXEL: 8
SAMPLES_AND_LINES: 5393 7603
HORIZONTAL_DATUM: NAD83
HORIZONTAL_COORDINATE_SYSTEM: UTM
COORDINATE_ZONE: 13
HORIZONTAL_UNITS: meters
HORIZONTAL_RESOLUTION: 1.00000
SECONDARY_HORIZONTAL_DATUM: NAD27
XY_ORIGIN: 443504.00000 5302987.00000
SECONDARY_XY_ORIGIN: 443544.19700 5302766.20100
NATION: US
STATE: MT
NW_QUAD_CORNER_XY: 443918.51500 5302679.39000
NE_QUAD_CORNER_XY: 448591.94900 5302635.90500
SE_QUAD_CORNERY_XY: 448530.15700 5295689.52900
SW_QUAD_CORNER_XY: 443851.10500 5295733.02200
SECONDARY_NW_QUAD_XY: 443916.75500 5302460.54900
SECONDARY_NE_QUAD_XY: 448590.33600 5302417.06300
SECONDARY_SE_QUAD_XY: 448528.54400 5295470.70400
SECONDARY_SW_QUAD_XY: 443849.34500 5295514.19900
RMSE_XY: 2.14000
IMAGE_SOURCE: BLACK AND WHITE FILM
SOURCE_IMAGE_ID: NAPP 9086-192
SOURCE_IMAGE_DATE: 1996 6 13
SOURCE_IMAGE_ID: NAPP 9086-193
SOURCE_IMAGE_DATE: 1996 6 13
SOURCE_IMAGE_ID: NAPP 9086-175
SOURCE_IMAGE_DATE: 1996 6 13
SOURCE_DEM_DATE: 1999 0 0
AGENCY: WESTERN MAPPING CENTER (WMC)
PRODUCER: WOOLPERT LLP
PRODUCTION_SYSTEM: INTERGRAPH ISPM, ISIR
COMPRESSION: UNDEFINED
STANDARD_VERSION: 1996 12
METADATA_DATE: 2001 10 24
DATA_FILE_SIZE: 41008372
BYTE_COUNT: 5393
