FILENAME: O4710510.NWS.1164995.tif
QUADRANGLE_NAME: SADIE COULEE
QUADRANT: NW
WEST_LONGITUDE: -105 52 30.00000
EAST_LONGITUDE: -105 48 45.00000
NORTH_LATITUDE: 47 52 30.00000
SOUTH_LATITUDE: 47 48 45.00000
PRODUCTION_DATE: 2001 10 11
RASTER_ORDER: LEFT_RIGHT/TOP_BOTTOM
BAND_ORGANIZATION: SINGLE FILE
BAND_CONTENT: BLACK&WHITE
BAND_CONTENT: UNDEFINED
BAND_CONTENT: UNDEFINED
BITS_PER_PIXEL: 8
SAMPLES_AND_LINES: 5406 7610
HORIZONTAL_DATUM: NAD83
HORIZONTAL_COORDINATE_SYSTEM: UTM
COORDINATE_ZONE: 13
HORIZONTAL_UNITS: meters
HORIZONTAL_RESOLUTION: 1.00000
SECONDARY_HORIZONTAL_DATUM: NAD27
XY_ORIGIN: 434145.00000 5303085.00000
SECONDARY_XY_ORIGIN: 434185.27400 5302864.19500
NATION: US
STATE: MT
NW_QUAD_CORNER_XY: 434571.66800 5302777.70300
NE_QUAD_CORNER_XY: 439245.08800 5302726.65500
SE_QUAD_CORNERY_XY: 439172.06000 5295780.29800
SW_QUAD_CORNER_XY: 434493.02100 5295831.35700
SECONDARY_NW_QUAD_XY: 434569.61400 5302558.86600
SECONDARY_NE_QUAD_XY: 439243.18100 5302507.81600
SECONDARY_SE_QUAD_XY: 439170.15300 5295561.47600
SECONDARY_SW_QUAD_XY: 434490.96800 5295612.53600
RMSE_XY: 1.89000
IMAGE_SOURCE: BLACK AND WHITE FILM
SOURCE_IMAGE_ID: NAPP 11000-025
SOURCE_IMAGE_DATE: 1998 7 13
SOURCE_IMAGE_ID: NAPP 11001-007
SOURCE_IMAGE_DATE: 1998 7 15
SOURCE_DEM_DATE: 1999 0 0
AGENCY: WESTERN MAPPING CENTER (WMC)
PRODUCER: WOOLPERT LLP
PRODUCTION_SYSTEM: INTERGRAPH ISPM, ISIR
COMPRESSION: UNDEFINED
STANDARD_VERSION: 1996 12
METADATA_DATE: 2001 10 20
DATA_FILE_SIZE: 41145066
BYTE_COUNT: 5406
