FILENAME: O4710510.SES.1164996.tif
QUADRANGLE_NAME: SADIE COULEE
QUADRANT: SE
WEST_LONGITUDE: -105 48 45.00000
EAST_LONGITUDE: -105 45 0.00000
NORTH_LATITUDE: 47 48 45.00000
SOUTH_LATITUDE: 47 45 0.00000
PRODUCTION_DATE: 2001 10 11
RASTER_ORDER: LEFT_RIGHT/TOP_BOTTOM
BAND_ORGANIZATION: SINGLE FILE
BAND_CONTENT: BLACK&WHITE
BAND_CONTENT: UNDEFINED
BAND_CONTENT: UNDEFINED
BITS_PER_PIXEL: 8
SAMPLES_AND_LINES: 5406 7607
HORIZONTAL_DATUM: NAD83
HORIZONTAL_COORDINATE_SYSTEM: UTM
COORDINATE_ZONE: 13
HORIZONTAL_UNITS: meters
HORIZONTAL_RESOLUTION: 1.00000
SECONDARY_HORIZONTAL_DATUM: NAD27
XY_ORIGIN: 438751.00000 5296088.00000
SECONDARY_XY_ORIGIN: 438791.26200 5295867.39100
NATION: US
STATE: MT
NW_QUAD_CORNER_XY: 439172.06000 5295780.29800
NE_QUAD_CORNER_XY: 443851.10500 5295733.02200
SE_QUAD_CORNERY_XY: 443783.76200 5288786.73000
SW_QUAD_CORNER_XY: 439099.10400 5288834.01600
SECONDARY_NW_QUAD_XY: 439170.15300 5295561.47600
SECONDARY_NE_QUAD_XY: 443849.34500 5295514.19900
SECONDARY_SE_QUAD_XY: 443782.00200 5288567.92400
SECONDARY_SW_QUAD_XY: 439097.19800 5288615.21100
RMSE_XY: 2.01000
IMAGE_SOURCE: BLACK AND WHITE FILM
SOURCE_IMAGE_ID: NAPP 9086-171
SOURCE_IMAGE_DATE: 1996 6 13
SOURCE_IMAGE_ID: NAPP 9086-170
SOURCE_IMAGE_DATE: 1996 6 13
SOURCE_DEM_DATE: 1999 0 0
AGENCY: WESTERN MAPPING CENTER (WMC)
PRODUCER: WOOLPERT LLP
PRODUCTION_SYSTEM: INTERGRAPH ISPM, ISIR
COMPRESSION: UNDEFINED
STANDARD_VERSION: 1996 12
METADATA_DATE: 2001 10 20
DATA_FILE_SIZE: 41128848
BYTE_COUNT: 5406
