FILENAME: O4710510.SWS.1164997.tif
QUADRANGLE_NAME: SADIE COULEE
QUADRANT: SW
WEST_LONGITUDE: -105 52 30.00000
EAST_LONGITUDE: -105 48 45.00000
NORTH_LATITUDE: 47 48 45.00000
SOUTH_LATITUDE: 47 45 0.00000
PRODUCTION_DATE: 2001 10 11
RASTER_ORDER: LEFT_RIGHT/TOP_BOTTOM
BAND_ORGANIZATION: SINGLE FILE
BAND_CONTENT: BLACK&WHITE
BAND_CONTENT: UNDEFINED
BAND_CONTENT: UNDEFINED
BITS_PER_PIXEL: 8
SAMPLES_AND_LINES: 5411 7610
HORIZONTAL_DATUM: NAD83
HORIZONTAL_COORDINATE_SYSTEM: UTM
COORDINATE_ZONE: 13
HORIZONTAL_UNITS: meters
HORIZONTAL_RESOLUTION: 1.00000
SECONDARY_HORIZONTAL_DATUM: NAD27
XY_ORIGIN: 434067.00000 5296139.00000
SECONDARY_XY_ORIGIN: 434107.29500 5295918.40300
NATION: US
STATE: MT
NW_QUAD_CORNER_XY: 434493.02100 5295831.35700
NE_QUAD_CORNER_XY: 439172.06000 5295780.29800
SE_QUAD_CORNERY_XY: 439099.10400 5288834.01600
SW_QUAD_CORNER_XY: 434414.45300 5288885.08500
SECONDARY_NW_QUAD_XY: 434490.96800 5295612.53600
SECONDARY_NE_QUAD_XY: 439170.15300 5295561.47600
SECONDARY_SE_QUAD_XY: 439097.19800 5288615.21100
SECONDARY_SW_QUAD_XY: 434412.40000 5288666.28200
RMSE_XY: 2.00000
IMAGE_SOURCE: BLACK AND WHITE FILM
SOURCE_IMAGE_ID: NAPP 11000-023
SOURCE_IMAGE_DATE: 1998 7 13
SOURCE_IMAGE_ID: NAPP 9088-098
SOURCE_IMAGE_DATE: 1996 7 7
SOURCE_DEM_DATE: 1999 0 0
AGENCY: WESTERN MAPPING CENTER (WMC)
PRODUCER: WOOLPERT LLP
PRODUCTION_SYSTEM: INTERGRAPH ISPM, ISIR
COMPRESSION: UNDEFINED
STANDARD_VERSION: 1996 12
METADATA_DATE: 2001 10 25
DATA_FILE_SIZE: 41183121
BYTE_COUNT: 5411
