FILENAME: O4710509.NWS.1164983.tif
QUADRANGLE_NAME: SHADE CREEK
QUADRANT: NW
WEST_LONGITUDE: -106 0 0.00000
EAST_LONGITUDE: -105 56 15.00000
NORTH_LATITUDE: 47 52 30.00000
SOUTH_LATITUDE: 47 48 45.00000
PRODUCTION_DATE: 2001 10 14
RASTER_ORDER: LEFT_RIGHT/TOP_BOTTOM
BAND_ORGANIZATION: SINGLE FILE
BAND_CONTENT: BLACK&WHITE
BAND_CONTENT: UNDEFINED
BAND_CONTENT: UNDEFINED
BITS_PER_PIXEL: 8
SAMPLES_AND_LINES: 5417 7618
HORIZONTAL_DATUM: NAD83
HORIZONTAL_COORDINATE_SYSTEM: UTM
COORDINATE_ZONE: 13
HORIZONTAL_UNITS: meters
HORIZONTAL_RESOLUTION: 1.00000
SECONDARY_HORIZONTAL_DATUM: NAD27
XY_ORIGIN: 424787.00000 5303199.00000
SECONDARY_XY_ORIGIN: 424827.35100 5302978.18600
NATION: US
STATE: MT
NW_QUAD_CORNER_XY: 425224.85100 5302891.14400
NE_QUAD_CORNER_XY: 429898.25500 5302832.53300
SE_QUAD_CORNERY_XY: 429813.99000 5295886.19800
SW_QUAD_CORNER_XY: 425134.96800 5295944.82200
SECONDARY_NW_QUAD_XY: 425222.50400 5302672.31000
SECONDARY_NE_QUAD_XY: 429896.05500 5302613.69700
SECONDARY_SE_QUAD_XY: 429811.79000 5295667.37900
SECONDARY_SW_QUAD_XY: 425132.62100 5295726.00500
RMSE_XY: 2.41000
IMAGE_SOURCE: BLACK AND WHITE FILM
SOURCE_IMAGE_ID: NAPP 9088-161
SOURCE_IMAGE_DATE: 1996 7 7
SOURCE_DEM_DATE: 1999 0 0
AGENCY: WESTERN MAPPING CENTER (WMC)
PRODUCER: WOOLPERT LLP
PRODUCTION_SYSTEM: INTERGRAPH ISPM, ISIR
COMPRESSION: UNDEFINED
STANDARD_VERSION: 1996 12
METADATA_DATE: 2001 10 14
DATA_FILE_SIZE: 41272123
BYTE_COUNT: 5417
