FILENAME: O4710508.NWS.1132999.tif
QUADRANGLE_NAME: DUPLISSE CREEK NORTH
QUADRANT: NW
WEST_LONGITUDE: -105 7 30.00000
EAST_LONGITUDE: -105 3 45.00000
NORTH_LATITUDE: 48 0 0.00000
SOUTH_LATITUDE: 47 56 15.00000
PRODUCTION_DATE: 2001 3 14
RASTER_ORDER: LEFT_RIGHT/TOP_BOTTOM
BAND_ORGANIZATION: SINGLE FILE
BAND_CONTENT: BLACK&WHITE
BAND_CONTENT: UNDEFINED
BAND_CONTENT: UNDEFINED
BITS_PER_PIXEL: 8
SAMPLES_AND_LINES: 5324 7565
HORIZONTAL_DATUM: NAD83
HORIZONTAL_COORDINATE_SYSTEM: UTM
COORDINATE_ZONE: 13
HORIZONTAL_UNITS: meters
HORIZONTAL_RESOLUTION: 1.00000
SECONDARY_HORIZONTAL_DATUM: NAD27
XY_ORIGIN: 490319.00000 5316615.00000
SECONDARY_XY_ORIGIN: 490358.53600 5316394.04700
NATION: US
STATE: MT
NW_QUAD_CORNER_XY: 490675.56300 5316307.78300
NE_QUAD_CORNER_XY: 495337.78100 5316302.11400
SE_QUAD_CORNERY_XY: 495332.15300 5309355.53700
SW_QUAD_CORNER_XY: 490664.30600 5309361.20700
SECONDARY_NW_QUAD_XY: 490675.26900 5316088.90300
SECONDARY_NE_QUAD_XY: 495337.63400 5316083.23300
SECONDARY_SE_QUAD_XY: 495332.00600 5309136.67200
SECONDARY_SW_QUAD_XY: 490664.01300 5309142.34200
RMSE_XY: 2.09000
IMAGE_SOURCE: BLACK AND WHITE FILM
SOURCE_IMAGE_ID: NAPP 9103-136
SOURCE_IMAGE_DATE: 1996 7 15
SOURCE_IMAGE_ID: NAPP 9103-135
SOURCE_IMAGE_DATE: 1996 7 15
SOURCE_DEM_DATE: 1999 0 0
AGENCY: WESTERN MAPPING CENTER (WMC)
PRODUCER: WOOLPERT LLP
PRODUCTION_SYSTEM: INTERGRAPH ISPM, ISIR
COMPRESSION: UNDEFINED
STANDARD_VERSION: 1996 12
METADATA_DATE: 2001 3 20
DATA_FILE_SIZE: 40281384
BYTE_COUNT: 5324
