FILENAME: O4710508.SWS.1133001.tif
QUADRANGLE_NAME: DUPLISSE CREEK NORTH
QUADRANT: SW
WEST_LONGITUDE: -105 7 30.00000
EAST_LONGITUDE: -105 3 45.00000
NORTH_LATITUDE: 47 56 15.00000
SOUTH_LATITUDE: 47 52 30.00000
PRODUCTION_DATE: 2001 3 14
RASTER_ORDER: LEFT_RIGHT/TOP_BOTTOM
BAND_ORGANIZATION: SINGLE FILE
BAND_CONTENT: BLACK&WHITE
BAND_CONTENT: UNDEFINED
BAND_CONTENT: UNDEFINED
BITS_PER_PIXEL: 8
SAMPLES_AND_LINES: 5330 7565
HORIZONTAL_DATUM: NAD83
HORIZONTAL_COORDINATE_SYSTEM: UTM
COORDINATE_ZONE: 13
HORIZONTAL_UNITS: meters
HORIZONTAL_RESOLUTION: 1.00000
SECONDARY_HORIZONTAL_DATUM: NAD27
XY_ORIGIN: 490308.00000 5309669.00000
SECONDARY_XY_ORIGIN: 490347.58100 5309448.13600
NATION: US
STATE: MT
NW_QUAD_CORNER_XY: 490664.30600 5309361.20700
NE_QUAD_CORNER_XY: 495332.15300 5309355.53700
SE_QUAD_CORNERY_XY: 495326.53000 5302409.03600
SW_QUAD_CORNER_XY: 490653.06000 5302414.70800
SECONDARY_NW_QUAD_XY: 490664.01300 5309142.34200
SECONDARY_NE_QUAD_XY: 495332.00600 5309136.67200
SECONDARY_SE_QUAD_XY: 495326.38300 5302190.18700
SECONDARY_SW_QUAD_XY: 490652.76700 5302195.85900
RMSE_XY: 1.92000
IMAGE_SOURCE: BLACK AND WHITE FILM
SOURCE_IMAGE_ID: NAPP 9103-138
SOURCE_IMAGE_DATE: 1996 7 15
SOURCE_DEM_DATE: 1999 0 0
AGENCY: WESTERN MAPPING CENTER (WMC)
PRODUCER: WOOLPERT LLP
PRODUCTION_SYSTEM: INTERGRAPH ISPM, ISIR
COMPRESSION: UNDEFINED
STANDARD_VERSION: 1996 12
METADATA_DATE: 2001 3 15
DATA_FILE_SIZE: 40326780
BYTE_COUNT: 5330
