FILENAME: O4710507.NES.1139303.tif
QUADRANGLE_NAME: SULLIVAN COULEE
QUADRANT: NE
WEST_LONGITUDE: -105 11 15.00000
EAST_LONGITUDE: -105 7 30.00000
NORTH_LATITUDE: 48 0 0.00000
SOUTH_LATITUDE: 47 56 15.00000
PRODUCTION_DATE: 2001 3 16
RASTER_ORDER: LEFT_RIGHT/TOP_BOTTOM
BAND_ORGANIZATION: SINGLE FILE
BAND_CONTENT: BLACK&WHITE
BAND_CONTENT: UNDEFINED
BAND_CONTENT: UNDEFINED
BITS_PER_PIXEL: 8
SAMPLES_AND_LINES: 5330 7569
HORIZONTAL_DATUM: NAD83
HORIZONTAL_COORDINATE_SYSTEM: UTM
COORDINATE_ZONE: 13
HORIZONTAL_UNITS: meters
HORIZONTAL_RESOLUTION: 1.00000
SECONDARY_HORIZONTAL_DATUM: NAD27
XY_ORIGIN: 485651.00000 5316625.00000
SECONDARY_XY_ORIGIN: 485690.57700 5316404.04600
NATION: US
STATE: MT
NW_QUAD_CORNER_XY: 486013.34600 5316317.23200
NE_QUAD_CORNER_XY: 490675.56300 5316307.78300
SE_QUAD_CORNERY_XY: 490664.30600 5309361.20700
SW_QUAD_CORNER_XY: 485996.46000 5309370.65800
SECONDARY_NW_QUAD_XY: 486012.90600 5316098.35200
SECONDARY_NE_QUAD_XY: 490675.26900 5316088.90300
SECONDARY_SE_QUAD_XY: 490664.01300 5309142.34200
SECONDARY_SW_QUAD_XY: 485996.02000 5309151.79300
RMSE_XY: 2.23000
IMAGE_SOURCE: BLACK AND WHITE FILM
SOURCE_IMAGE_ID: NAPP 9103-199
SOURCE_IMAGE_DATE: 1996 7 15
SOURCE_IMAGE_ID: NAPP 9103-200
SOURCE_IMAGE_DATE: 1996 7 15
SOURCE_IMAGE_ID: NAPP 9103-135
SOURCE_IMAGE_DATE: 1996 7 15
SOURCE_IMAGE_ID: NAPP 10725-029
SOURCE_IMAGE_DATE: 1997 9 2
SOURCE_DEM_DATE: 1999 0 0
AGENCY: WESTERN MAPPING CENTER (WMC)
PRODUCER: WOOLPERT LLP
PRODUCTION_SYSTEM: INTERGRAPH ISPM, ISIR
COMPRESSION: UNDEFINED
STANDARD_VERSION: 1996 12
METADATA_DATE: 2001 4 27
DATA_FILE_SIZE: 40348100
BYTE_COUNT: 5330
