FILENAME: O4710507.NWS.1139304.tif
QUADRANGLE_NAME: SULLIVAN COULEE
QUADRANT: NW
WEST_LONGITUDE: -105 15 0.00000
EAST_LONGITUDE: -105 11 15.00000
NORTH_LATITUDE: 48 0 0.00000
SOUTH_LATITUDE: 47 56 15.00000
PRODUCTION_DATE: 2001 3 30
RASTER_ORDER: LEFT_RIGHT/TOP_BOTTOM
BAND_ORGANIZATION: SINGLE FILE
BAND_CONTENT: BLACK&WHITE
BAND_CONTENT: UNDEFINED
BAND_CONTENT: UNDEFINED
BITS_PER_PIXEL: 8
SAMPLES_AND_LINES: 5336 7573
HORIZONTAL_DATUM: NAD83
HORIZONTAL_COORDINATE_SYSTEM: UTM
COORDINATE_ZONE: 13
HORIZONTAL_UNITS: meters
HORIZONTAL_RESOLUTION: 1.00000
SECONDARY_HORIZONTAL_DATUM: NAD27
XY_ORIGIN: 480983.00000 5316638.00000
SECONDARY_XY_ORIGIN: 481022.61900 5316417.04500
NATION: US
STATE: MT
NW_QUAD_CORNER_XY: 481351.13000 5316330.46000
NE_QUAD_CORNER_XY: 486013.34600 5316317.23200
SE_QUAD_CORNERY_XY: 485996.46000 5309370.65800
SW_QUAD_CORNER_XY: 481328.61600 5309383.88900
SECONDARY_NW_QUAD_XY: 481350.54300 5316111.58000
SECONDARY_NE_QUAD_XY: 486012.90600 5316098.35200
SECONDARY_SE_QUAD_XY: 485996.02000 5309151.79300
SECONDARY_SW_QUAD_XY: 481328.03000 5309165.02500
RMSE_XY: 2.54000
IMAGE_SOURCE: BLACK AND WHITE FILM
SOURCE_IMAGE_ID: NAPP 10725-028
SOURCE_IMAGE_DATE: 1997 9 2
SOURCE_IMAGE_ID: NAPP 10725-029
SOURCE_IMAGE_DATE: 1997 9 2
SOURCE_DEM_DATE: 1999 0 0
AGENCY: WESTERN MAPPING CENTER (WMC)
PRODUCER: WOOLPERT LLP
PRODUCTION_SYSTEM: INTERGRAPH ISPM, ISIR
COMPRESSION: UNDEFINED
STANDARD_VERSION: 1996 12
METADATA_DATE: 2001 4 30
DATA_FILE_SIZE: 40414864
BYTE_COUNT: 5336
