FILENAME: O4710507.SWS.1139306.tif
QUADRANGLE_NAME: SULLIVAN COULEE
QUADRANT: SW
WEST_LONGITUDE: -105 15 0.00000
EAST_LONGITUDE: -105 11 15.00000
NORTH_LATITUDE: 47 56 15.00000
SOUTH_LATITUDE: 47 52 30.00000
PRODUCTION_DATE: 2001 3 30
RASTER_ORDER: LEFT_RIGHT/TOP_BOTTOM
BAND_ORGANIZATION: SINGLE FILE
BAND_CONTENT: BLACK&WHITE
BAND_CONTENT: UNDEFINED
BAND_CONTENT: UNDEFINED
BITS_PER_PIXEL: 8
SAMPLES_AND_LINES: 5342 7572
HORIZONTAL_DATUM: NAD83
HORIZONTAL_COORDINATE_SYSTEM: UTM
COORDINATE_ZONE: 13
HORIZONTAL_UNITS: meters
HORIZONTAL_RESOLUTION: 1.00000
SECONDARY_HORIZONTAL_DATUM: NAD27
XY_ORIGIN: 480960.00000 5309691.00000
SECONDARY_XY_ORIGIN: 480999.67000 5309470.13800
NATION: US
STATE: MT
NW_QUAD_CORNER_XY: 481328.61600 5309383.88900
NE_QUAD_CORNER_XY: 485996.46000 5309370.65800
SE_QUAD_CORNERY_XY: 485979.59200 5302424.16000
SW_QUAD_CORNER_XY: 481306.12500 5302437.39400
SECONDARY_NW_QUAD_XY: 481328.03000 5309165.02500
SECONDARY_NE_QUAD_XY: 485996.02000 5309151.79300
SECONDARY_SE_QUAD_XY: 485979.15200 5302205.31200
SECONDARY_SW_QUAD_XY: 481305.53800 5302218.54600
RMSE_XY: 2.39000
IMAGE_SOURCE: BLACK AND WHITE FILM
SOURCE_IMAGE_ID: NAPP 10725-026
SOURCE_IMAGE_DATE: 1997 9 2
SOURCE_DEM_DATE: 1999 0 0
AGENCY: WESTERN MAPPING CENTER (WMC)
PRODUCER: WOOLPERT LLP
PRODUCTION_SYSTEM: INTERGRAPH ISPM, ISIR
COMPRESSION: UNDEFINED
STANDARD_VERSION: 1996 12
METADATA_DATE: 2001 3 30
DATA_FILE_SIZE: 40454966
BYTE_COUNT: 5342
