FILENAME: O4710506.NES.1139291.tif
QUADRANGLE_NAME: DOWSE COULEE
QUADRANT: NE
WEST_LONGITUDE: -105 18 45.00000
EAST_LONGITUDE: -105 15 0.00000
NORTH_LATITUDE: 48 0 0.00000
SOUTH_LATITUDE: 47 56 15.00000
PRODUCTION_DATE: 2001 4 4
RASTER_ORDER: LEFT_RIGHT/TOP_BOTTOM
BAND_ORGANIZATION: SINGLE FILE
BAND_CONTENT: BLACK&WHITE
BAND_CONTENT: UNDEFINED
BAND_CONTENT: UNDEFINED
BITS_PER_PIXEL: 8
SAMPLES_AND_LINES: 5342 7577
HORIZONTAL_DATUM: NAD83
HORIZONTAL_COORDINATE_SYSTEM: UTM
COORDINATE_ZONE: 13
HORIZONTAL_UNITS: meters
HORIZONTAL_RESOLUTION: 1.00000
SECONDARY_HORIZONTAL_DATUM: NAD27
XY_ORIGIN: 476315.00000 5316655.00000
SECONDARY_XY_ORIGIN: 476354.68400 5316434.04200
NATION: US
STATE: MT
NW_QUAD_CORNER_XY: 476688.91700 5316347.46700
NE_QUAD_CORNER_XY: 481351.13000 5316330.46000
SE_QUAD_CORNERY_XY: 481328.61600 5309383.88900
SW_QUAD_CORNER_XY: 476660.77500 5309400.90000
SECONDARY_NW_QUAD_XY: 476688.18400 5316128.58800
SECONDARY_NE_QUAD_XY: 481350.54300 5316111.58000
SECONDARY_SE_QUAD_XY: 481328.03000 5309165.02500
SECONDARY_SW_QUAD_XY: 476660.04100 5309182.03600
RMSE_XY: 2.33000
IMAGE_SOURCE: BLACK AND WHITE FILM
SOURCE_IMAGE_ID: NAPP 9116-169
SOURCE_IMAGE_DATE: 1996 8 27
SOURCE_IMAGE_ID: NAPP 9116-170
SOURCE_IMAGE_DATE: 1996 8 27
SOURCE_IMAGE_ID: NAPP 9113-056
SOURCE_IMAGE_DATE: 1996 8 16
SOURCE_DEM_DATE: 1999 0 0
AGENCY: WESTERN MAPPING CENTER (WMC)
PRODUCER: WOOLPERT LLP
PRODUCTION_SYSTEM: INTERGRAPH ISPM, ISIR
COMPRESSION: UNDEFINED
STANDARD_VERSION: 1996 12
METADATA_DATE: 2001 4 27
DATA_FILE_SIZE: 40481676
BYTE_COUNT: 5342
