FILENAME: O4710504.NES.1139267.tif
QUADRANGLE_NAME: ROCK CREEK
QUADRANT: NE
WEST_LONGITUDE: -105 33 45.00000
EAST_LONGITUDE: -105 30 0.00000
NORTH_LATITUDE: 48 0 0.00000
SOUTH_LATITUDE: 47 56 15.00000
PRODUCTION_DATE: 2001 4 6
RASTER_ORDER: LEFT_RIGHT/TOP_BOTTOM
BAND_ORGANIZATION: SINGLE FILE
BAND_CONTENT: BLACK&WHITE
BAND_CONTENT: UNDEFINED
BAND_CONTENT: UNDEFINED
BITS_PER_PIXEL: 8
SAMPLES_AND_LINES: 5365 7592
HORIZONTAL_DATUM: NAD83
HORIZONTAL_COORDINATE_SYSTEM: UTM
COORDINATE_ZONE: 13
HORIZONTAL_UNITS: meters
HORIZONTAL_RESOLUTION: 1.00000
SECONDARY_HORIZONTAL_DATUM: NAD27
XY_ORIGIN: 457643.00000 5316761.00000
SECONDARY_XY_ORIGIN: 457682.94100 5316539.98400
NATION: US
STATE: MT
NW_QUAD_CORNER_XY: 458040.09900 5316453.29200
NE_QUAD_CORNER_XY: 462702.29700 5316421.16700
SE_QUAD_CORNERY_XY: 462657.26900 5309474.61600
SW_QUAD_CORNER_XY: 457989.44200 5309506.74900
SECONDARY_NW_QUAD_XY: 458038.77800 5316234.41700
SECONDARY_NE_QUAD_XY: 462701.12300 5316202.29000
SECONDARY_SE_QUAD_XY: 462656.09500 5309255.75500
SECONDARY_SW_QUAD_XY: 457988.12100 5309287.88900
RMSE_XY: 1.95000
IMAGE_SOURCE: BLACK AND WHITE FILM
SOURCE_IMAGE_ID: NAPP 9094-055
SOURCE_IMAGE_DATE: 1996 7 9
SOURCE_IMAGE_ID: NAPP 9094-056
SOURCE_IMAGE_DATE: 1996 7 9
SOURCE_DEM_DATE: 1999 0 0
AGENCY: WESTERN MAPPING CENTER (WMC)
PRODUCER: WOOLPERT LLP
PRODUCTION_SYSTEM: INTERGRAPH ISPM, ISIR
COMPRESSION: UNDEFINED
STANDARD_VERSION: 1996 12
METADATA_DATE: 2001 4 26
DATA_FILE_SIZE: 40736445
BYTE_COUNT: 5365
