FILENAME: O4710504.NWS.1139268.tif
QUADRANGLE_NAME: ROCK CREEK
QUADRANT: NW
WEST_LONGITUDE: -105 37 30.00000
EAST_LONGITUDE: -105 33 45.00000
NORTH_LATITUDE: 48 0 0.00000
SOUTH_LATITUDE: 47 56 15.00000
PRODUCTION_DATE: 2001 4 6
RASTER_ORDER: LEFT_RIGHT/TOP_BOTTOM
BAND_ORGANIZATION: SINGLE FILE
BAND_CONTENT: BLACK&WHITE
BAND_CONTENT: UNDEFINED
BAND_CONTENT: UNDEFINED
BITS_PER_PIXEL: 8
SAMPLES_AND_LINES: 5371 7596
HORIZONTAL_DATUM: NAD83
HORIZONTAL_COORDINATE_SYSTEM: UTM
COORDINATE_ZONE: 13
HORIZONTAL_UNITS: meters
HORIZONTAL_RESOLUTION: 1.00000
SECONDARY_HORIZONTAL_DATUM: NAD27
XY_ORIGIN: 452975.00000 5316797.00000
SECONDARY_XY_ORIGIN: 453015.00500 5316575.94000
NATION: US
STATE: MT
NW_QUAD_CORNER_XY: 453377.90600 5316489.19800
NE_QUAD_CORNER_XY: 458040.09900 5316453.29200
SE_QUAD_CORNERY_XY: 457989.44200 5309506.74900
SW_QUAD_CORNER_XY: 453321.61900 5309542.66300
SECONDARY_NW_QUAD_XY: 453376.43900 5316270.32300
SECONDARY_NE_QUAD_XY: 458038.77800 5316234.41700
SECONDARY_SE_QUAD_XY: 457988.12100 5309287.88900
SECONDARY_SW_QUAD_XY: 453320.15200 5309323.80300
RMSE_XY: 2.28000
IMAGE_SOURCE: BLACK AND WHITE FILM
SOURCE_IMAGE_ID: NAPP 9094-124
SOURCE_IMAGE_DATE: 1996 7 9
SOURCE_IMAGE_ID: NAPP 9094-125
SOURCE_IMAGE_DATE: 1996 7 9
SOURCE_IMAGE_ID: NAPP 9094-056
SOURCE_IMAGE_DATE: 1996 7 9
SOURCE_IMAGE_ID: NAPP 9105-102
SOURCE_IMAGE_DATE: 1996 8 1
SOURCE_DEM_DATE: 1999 0 0
AGENCY: WESTERN MAPPING CENTER (WMC)
PRODUCER: WOOLPERT LLP
PRODUCTION_SYSTEM: INTERGRAPH ISPM, ISIR
COMPRESSION: UNDEFINED
STANDARD_VERSION: 1996 12
METADATA_DATE: 2001 4 26
DATA_FILE_SIZE: 40803487
BYTE_COUNT: 5371
