FILENAME: O4710504.SES.1139269.tif
QUADRANGLE_NAME: ROCK CREEK
QUADRANT: SE
WEST_LONGITUDE: -105 33 45.00000
EAST_LONGITUDE: -105 30 0.00000
NORTH_LATITUDE: 47 56 15.00000
SOUTH_LATITUDE: 47 52 30.00000
PRODUCTION_DATE: 2001 4 6
RASTER_ORDER: LEFT_RIGHT/TOP_BOTTOM
BAND_ORGANIZATION: SINGLE FILE
BAND_CONTENT: BLACK&WHITE
BAND_CONTENT: UNDEFINED
BAND_CONTENT: UNDEFINED
BITS_PER_PIXEL: 8
SAMPLES_AND_LINES: 5371 7591
HORIZONTAL_DATUM: NAD83
HORIZONTAL_COORDINATE_SYSTEM: UTM
COORDINATE_ZONE: 13
HORIZONTAL_UNITS: meters
HORIZONTAL_RESOLUTION: 1.00000
SECONDARY_HORIZONTAL_DATUM: NAD27
XY_ORIGIN: 457592.00000 5309814.00000
SECONDARY_XY_ORIGIN: 457631.98400 5309593.11400
NATION: US
STATE: MT
NW_QUAD_CORNER_XY: 457989.44200 5309506.74900
NE_QUAD_CORNER_XY: 462657.26900 5309474.61600
SE_QUAD_CORNERY_XY: 462612.28500 5302528.14100
SW_QUAD_CORNER_XY: 457938.83500 5302560.28100
SECONDARY_NW_QUAD_XY: 457988.12100 5309287.88900
SECONDARY_NE_QUAD_XY: 462656.09500 5309255.75500
SECONDARY_SE_QUAD_XY: 462611.11100 5302309.29600
SECONDARY_SW_QUAD_XY: 457937.51400 5302341.43700
RMSE_XY: 2.16000
IMAGE_SOURCE: BLACK AND WHITE FILM
SOURCE_IMAGE_ID: NAPP 9094-053
SOURCE_IMAGE_DATE: 1996 7 9
SOURCE_DEM_DATE: 1999 0 0
AGENCY: WESTERN MAPPING CENTER (WMC)
PRODUCER: WOOLPERT LLP
PRODUCTION_SYSTEM: INTERGRAPH ISPM, ISIR
COMPRESSION: UNDEFINED
STANDARD_VERSION: 1996 12
METADATA_DATE: 2001 4 6
DATA_FILE_SIZE: 40776632
BYTE_COUNT: 5371
