FILENAME: O4710503.NWS.1139256.tif
QUADRANGLE_NAME: ANTELOPE CREEK RESERVOIR
QUADRANT: NW
WEST_LONGITUDE: -105 45 0.00000
EAST_LONGITUDE: -105 41 15.00000
NORTH_LATITUDE: 48 0 0.00000
SOUTH_LATITUDE: 47 56 15.00000
PRODUCTION_DATE: 2001 4 6
RASTER_ORDER: LEFT_RIGHT/TOP_BOTTOM
BAND_ORGANIZATION: SINGLE FILE
BAND_CONTENT: BLACK&WHITE
BAND_CONTENT: UNDEFINED
BAND_CONTENT: UNDEFINED
BITS_PER_PIXEL: 8
SAMPLES_AND_LINES: 5382 7603
HORIZONTAL_DATUM: NAD83
HORIZONTAL_COORDINATE_SYSTEM: UTM
COORDINATE_ZONE: 13
HORIZONTAL_UNITS: meters
HORIZONTAL_RESOLUTION: 1.00000
SECONDARY_HORIZONTAL_DATUM: NAD27
XY_ORIGIN: 443639.00000 5316880.00000
SECONDARY_XY_ORIGIN: 443679.13200 5316658.85700
NATION: US
STATE: MT
NW_QUAD_CORNER_XY: 444053.53700 5316572.34800
NE_QUAD_CORNER_XY: 448715.71800 5316528.88300
SE_QUAD_CORNERY_XY: 448653.80300 5309582.35700
SW_QUAD_CORNER_XY: 443985.99300 5309625.83100
SECONDARY_NW_QUAD_XY: 444051.77700 5316353.47600
SECONDARY_NE_QUAD_XY: 448714.10500 5316310.01000
SECONDARY_SE_QUAD_XY: 448652.18900 5309363.49800
SECONDARY_SW_QUAD_XY: 443984.23200 5309406.97500
RMSE_XY: 2.37000
IMAGE_SOURCE: BLACK AND WHITE FILM
SOURCE_IMAGE_ID: NAPP 9086-188
SOURCE_IMAGE_DATE: 1996 6 13
SOURCE_IMAGE_ID: NAPP 9086-189
SOURCE_IMAGE_DATE: 1996 6 13
SOURCE_IMAGE_ID: NAPP 9086-178
SOURCE_IMAGE_DATE: 1996 6 13
SOURCE_IMAGE_ID: NAPP 9086-176
SOURCE_IMAGE_DATE: 1996 6 13
SOURCE_DEM_DATE: 1999 0 0
AGENCY: WESTERN MAPPING CENTER (WMC)
PRODUCER: WOOLPERT LLP
PRODUCTION_SYSTEM: INTERGRAPH ISPM, ISIR
COMPRESSION: UNDEFINED
STANDARD_VERSION: 1996 12
METADATA_DATE: 2001 4 20
DATA_FILE_SIZE: 40924728
BYTE_COUNT: 5382
