FILENAME: O4710503.SES.1139257.tif
QUADRANGLE_NAME: ANTELOPE CREEK RESERVOIR
QUADRANT: SE
WEST_LONGITUDE: -105 41 15.00000
EAST_LONGITUDE: -105 37 30.00000
NORTH_LATITUDE: 47 56 15.00000
SOUTH_LATITUDE: 47 52 30.00000
PRODUCTION_DATE: 2001 4 6
RASTER_ORDER: LEFT_RIGHT/TOP_BOTTOM
BAND_ORGANIZATION: SINGLE FILE
BAND_CONTENT: BLACK&WHITE
BAND_CONTENT: UNDEFINED
BAND_CONTENT: UNDEFINED
BITS_PER_PIXEL: 8
SAMPLES_AND_LINES: 5382 7599
HORIZONTAL_DATUM: NAD83
HORIZONTAL_COORDINATE_SYSTEM: UTM
COORDINATE_ZONE: 13
HORIZONTAL_UNITS: meters
HORIZONTAL_RESOLUTION: 1.00000
SECONDARY_HORIZONTAL_DATUM: NAD27
XY_ORIGIN: 448245.00000 5309890.00000
SECONDARY_XY_ORIGIN: 448285.10600 5309669.05400
NATION: US
STATE: MT
NW_QUAD_CORNER_XY: 448653.80300 5309582.35700
NE_QUAD_CORNER_XY: 453321.61900 5309542.66300
SE_QUAD_CORNERY_XY: 453265.38900 5302596.20200
SW_QUAD_CORNER_XY: 448591.94900 5302635.90500
SECONDARY_NW_QUAD_XY: 448652.18900 5309363.49800
SECONDARY_NE_QUAD_XY: 453320.15200 5309323.80300
SECONDARY_SE_QUAD_XY: 453263.92200 5302377.35900
SECONDARY_SW_QUAD_XY: 448590.33600 5302417.06300
RMSE_XY: 2.62000
IMAGE_SOURCE: BLACK AND WHITE FILM
SOURCE_IMAGE_ID: NAPP 9105-101
SOURCE_IMAGE_DATE: 1996 8 1
SOURCE_IMAGE_ID: NAPP 9105-102
SOURCE_IMAGE_DATE: 1996 8 1
SOURCE_DEM_DATE: 1999 0 0
AGENCY: WESTERN MAPPING CENTER (WMC)
PRODUCER: WOOLPERT LLP
PRODUCTION_SYSTEM: INTERGRAPH ISPM, ISIR
COMPRESSION: UNDEFINED
STANDARD_VERSION: 1996 12
METADATA_DATE: 2001 4 20
DATA_FILE_SIZE: 40903200
BYTE_COUNT: 5382
