FILENAME: O4710502.NWS.1139244.tif
QUADRANGLE_NAME: EMILY COULEE
QUADRANT: NW
WEST_LONGITUDE: -105 52 30.00000
EAST_LONGITUDE: -105 48 45.00000
NORTH_LATITUDE: 48 0 0.00000
SOUTH_LATITUDE: 47 56 15.00000
PRODUCTION_DATE: 2001 4 4
RASTER_ORDER: LEFT_RIGHT/TOP_BOTTOM
BAND_ORGANIZATION: SINGLE FILE
BAND_CONTENT: BLACK&WHITE
BAND_CONTENT: UNDEFINED
BAND_CONTENT: UNDEFINED
BITS_PER_PIXEL: 8
SAMPLES_AND_LINES: 5394 7610
HORIZONTAL_DATUM: NAD83
HORIZONTAL_COORDINATE_SYSTEM: UTM
COORDINATE_ZONE: 13
HORIZONTAL_UNITS: meters
HORIZONTAL_RESOLUTION: 1.00000
SECONDARY_HORIZONTAL_DATUM: NAD27
XY_ORIGIN: 434303.00000 5316978.00000
SECONDARY_XY_ORIGIN: 434343.22800 5316756.78500
NATION: US
STATE: MT
NW_QUAD_CORNER_XY: 434729.19600 5316670.61800
NE_QUAD_CORNER_XY: 439391.36300 5316619.59300
SE_QUAD_CORNERY_XY: 439318.18900 5309673.08700
SW_QUAD_CORNER_XY: 434650.39300 5309724.12400
SECONDARY_NW_QUAD_XY: 434727.14200 5316451.74900
SECONDARY_NE_QUAD_XY: 439389.45600 5316400.72300
SECONDARY_SE_QUAD_XY: 439316.28200 5309454.23200
SECONDARY_SW_QUAD_XY: 434648.33900 5309505.27000
RMSE_XY: 2.63000
IMAGE_SOURCE: BLACK AND WHITE FILM
SOURCE_IMAGE_ID: NAPP 11001-010
SOURCE_IMAGE_DATE: 1998 7 15
SOURCE_IMAGE_ID: NAPP 11001-011
SOURCE_IMAGE_DATE: 1998 7 15
SOURCE_IMAGE_ID: NAPP 11001-009
SOURCE_IMAGE_DATE: 1998 7 15
SOURCE_DEM_DATE: 1999 0 0
AGENCY: WESTERN MAPPING CENTER (WMC)
PRODUCER: WOOLPERT LLP
PRODUCTION_SYSTEM: INTERGRAPH ISPM, ISIR
COMPRESSION: UNDEFINED
STANDARD_VERSION: 1996 12
METADATA_DATE: 2001 4 20
DATA_FILE_SIZE: 41053734
BYTE_COUNT: 5394
