FILENAME: O4710502.SES.1139245.tif
QUADRANGLE_NAME: EMILY COULEE
QUADRANT: SE
WEST_LONGITUDE: -105 48 45.00000
EAST_LONGITUDE: -105 45 0.00000
NORTH_LATITUDE: 47 56 15.00000
SOUTH_LATITUDE: 47 52 30.00000
PRODUCTION_DATE: 2001 4 4
RASTER_ORDER: LEFT_RIGHT/TOP_BOTTOM
BAND_ORGANIZATION: SINGLE FILE
BAND_CONTENT: BLACK&WHITE
BAND_CONTENT: UNDEFINED
BAND_CONTENT: UNDEFINED
BITS_PER_PIXEL: 8
SAMPLES_AND_LINES: 5394 7607
HORIZONTAL_DATUM: NAD83
HORIZONTAL_COORDINATE_SYSTEM: UTM
COORDINATE_ZONE: 13
HORIZONTAL_UNITS: meters
HORIZONTAL_RESOLUTION: 1.00000
SECONDARY_HORIZONTAL_DATUM: NAD27
XY_ORIGIN: 438897.00000 5309981.00000
SECONDARY_XY_ORIGIN: 438937.20900 5309760.00000
NATION: US
STATE: MT
NW_QUAD_CORNER_XY: 439318.18900 5309673.08700
NE_QUAD_CORNER_XY: 443985.99300 5309625.83100
SE_QUAD_CORNERY_XY: 443918.51500 5302679.39000
SW_QUAD_CORNER_XY: 439245.08800 5302726.65500
SECONDARY_NW_QUAD_XY: 439316.28200 5309454.23200
SECONDARY_NE_QUAD_XY: 443984.23200 5309406.97500
SECONDARY_SE_QUAD_XY: 443916.75500 5302460.54900
SECONDARY_SW_QUAD_XY: 439243.18100 5302507.81600
RMSE_XY: 2.74000
IMAGE_SOURCE: BLACK AND WHITE FILM
SOURCE_IMAGE_ID: NAPP 9086-175
SOURCE_IMAGE_DATE: 1996 6 13
SOURCE_IMAGE_ID: NAPP 9086-176
SOURCE_IMAGE_DATE: 1996 6 13
SOURCE_IMAGE_ID: NAPP 11001-007
SOURCE_IMAGE_DATE: 1998 7 15
SOURCE_DEM_DATE: 1999 0 0
AGENCY: WESTERN MAPPING CENTER (WMC)
PRODUCER: WOOLPERT LLP
PRODUCTION_SYSTEM: INTERGRAPH ISPM, ISIR
COMPRESSION: UNDEFINED
STANDARD_VERSION: 1996 12
METADATA_DATE: 2001 4 20
DATA_FILE_SIZE: 41037552
BYTE_COUNT: 5394
