FILENAME: O4710502.SWS.1139246.tif
QUADRANGLE_NAME: EMILY COULEE
QUADRANT: SW
WEST_LONGITUDE: -105 52 30.00000
EAST_LONGITUDE: -105 48 45.00000
NORTH_LATITUDE: 47 56 15.00000
SOUTH_LATITUDE: 47 52 30.00000
PRODUCTION_DATE: 2001 4 4
RASTER_ORDER: LEFT_RIGHT/TOP_BOTTOM
BAND_ORGANIZATION: SINGLE FILE
BAND_CONTENT: BLACK&WHITE
BAND_CONTENT: UNDEFINED
BAND_CONTENT: UNDEFINED
BITS_PER_PIXEL: 8
SAMPLES_AND_LINES: 5400 7611
HORIZONTAL_DATUM: NAD83
HORIZONTAL_COORDINATE_SYSTEM: UTM
COORDINATE_ZONE: 13
HORIZONTAL_UNITS: meters
HORIZONTAL_RESOLUTION: 1.00000
SECONDARY_HORIZONTAL_DATUM: NAD27
XY_ORIGIN: 434224.00000 5310032.00000
SECONDARY_XY_ORIGIN: 434264.25200 5309810.98100
NATION: US
STATE: MT
NW_QUAD_CORNER_XY: 434650.39300 5309724.12400
NE_QUAD_CORNER_XY: 439318.18900 5309673.08700
SE_QUAD_CORNERY_XY: 439245.08800 5302726.65500
SW_QUAD_CORNER_XY: 434571.66800 5302777.70300
SECONDARY_NW_QUAD_XY: 434648.33900 5309505.27000
SECONDARY_NE_QUAD_XY: 439316.28200 5309454.23200
SECONDARY_SE_QUAD_XY: 439243.18100 5302507.81600
SECONDARY_SW_QUAD_XY: 434569.61400 5302558.86600
RMSE_XY: 2.81000
IMAGE_SOURCE: BLACK AND WHITE FILM
SOURCE_IMAGE_ID: NAPP 11001-008
SOURCE_IMAGE_DATE: 1998 7 15
SOURCE_IMAGE_ID: NAPP 11001-009
SOURCE_IMAGE_DATE: 1998 7 15
SOURCE_IMAGE_ID: NAPP 11001-007
SOURCE_IMAGE_DATE: 1998 7 15
SOURCE_DEM_DATE: 1999 0 0
AGENCY: WESTERN MAPPING CENTER (WMC)
PRODUCER: WOOLPERT LLP
PRODUCTION_SYSTEM: INTERGRAPH ISPM, ISIR
COMPRESSION: UNDEFINED
STANDARD_VERSION: 1996 12
METADATA_DATE: 2001 4 20
DATA_FILE_SIZE: 41104800
BYTE_COUNT: 5400
