FILENAME: O4710501.NES.1139231.tif
QUADRANGLE_NAME: TURTLE CREEK
QUADRANT: NE
WEST_LONGITUDE: -105 56 15.00000
EAST_LONGITUDE: -105 52 30.00000
NORTH_LATITUDE: 48 0 0.00000
SOUTH_LATITUDE: 47 56 15.00000
PRODUCTION_DATE: 2001 4 4
RASTER_ORDER: LEFT_RIGHT/TOP_BOTTOM
BAND_ORGANIZATION: SINGLE FILE
BAND_CONTENT: BLACK&WHITE
BAND_CONTENT: UNDEFINED
BAND_CONTENT: UNDEFINED
BITS_PER_PIXEL: 8
SAMPLES_AND_LINES: 5400 7614
HORIZONTAL_DATUM: NAD83
HORIZONTAL_COORDINATE_SYSTEM: UTM
COORDINATE_ZONE: 13
HORIZONTAL_UNITS: meters
HORIZONTAL_RESOLUTION: 1.00000
SECONDARY_HORIZONTAL_DATUM: NAD27
XY_ORIGIN: 429635.00000 5317033.00000
SECONDARY_XY_ORIGIN: 429675.27600 5316811.75000
NATION: US
STATE: MT
NW_QUAD_CORNER_XY: 430067.03800 5316725.42400
NE_QUAD_CORNER_XY: 434729.19600 5316670.61800
SE_QUAD_CORNERY_XY: 434650.39300 5309724.12400
SW_QUAD_CORNER_XY: 429982.60500 5309778.94100
SECONDARY_NW_QUAD_XY: 430064.83700 5316506.55600
SECONDARY_NE_QUAD_XY: 434727.14200 5316451.74900
SECONDARY_SE_QUAD_XY: 434648.33900 5309505.27000
SECONDARY_SW_QUAD_XY: 429980.40400 5309560.08900
RMSE_XY: 2.37000
IMAGE_SOURCE: BLACK AND WHITE FILM
SOURCE_IMAGE_ID: NAPP 9088-105
SOURCE_IMAGE_DATE: 1996 7 7
SOURCE_IMAGE_ID: NAPP 11001-009
SOURCE_IMAGE_DATE: 1998 7 15
SOURCE_IMAGE_ID: NAPP 11001-010
SOURCE_IMAGE_DATE: 1998 7 15
SOURCE_DEM_DATE: 1999 0 0
AGENCY: WESTERN MAPPING CENTER (WMC)
PRODUCER: WOOLPERT LLP
PRODUCTION_SYSTEM: INTERGRAPH ISPM, ISIR
COMPRESSION: UNDEFINED
STANDARD_VERSION: 1996 12
METADATA_DATE: 2001 4 16
DATA_FILE_SIZE: 41121000
BYTE_COUNT: 5400
