FILENAME: O4710664.SES.1112573.tif
QUADRANGLE_NAME: HEDSTROM LAKE SE
QUADRANT: SE
WEST_LONGITUDE: -106 3 45.00000
EAST_LONGITUDE: -106 0 0.00000
NORTH_LATITUDE: 47 3 45.00000
SOUTH_LATITUDE: 47 0 0.00000
PRODUCTION_DATE: 2000 11 14
RASTER_ORDER: LEFT_RIGHT/TOP_BOTTOM
BAND_ORGANIZATION: SINGLE FILE
BAND_CONTENT: BLACK&WHITE
BAND_CONTENT: UNDEFINED
BAND_CONTENT: UNDEFINED
BITS_PER_PIXEL: 8
SAMPLES_AND_LINES: 5487 7612
HORIZONTAL_DATUM: NAD83
HORIZONTAL_COORDINATE_SYSTEM: UTM
COORDINATE_ZONE: 13
HORIZONTAL_UNITS: METERS
HORIZONTAL_RESOLUTION: 1.00000
SECONDARY_HORIZONTAL_DATUM: NAD27
XY_ORIGIN: 418878.00000 5212959.00000
SECONDARY_XY_ORIGIN: 418919.56100 5212739.60600
NATION: US
NATION: "SCIENCE
STATE: MT
NW_QUAD_CORNER_XY: 419317.39600 5212657.25400
NE_QUAD_CORNER_XY: 424063.39600 5212594.71000
SE_QUAD_CORNERY_XY: 423974.68800 5205649.34700
SW_QUAD_CORNER_XY: 419223.14200 5205711.90100
SECONDARY_NW_QUAD_XY: 419314.90600 5212438.70900
SECONDARY_NE_QUAD_XY: 424061.05300 5212376.16300
SECONDARY_SE_QUAD_XY: 423972.34500 5205430.82800
SECONDARY_SW_QUAD_XY: 419220.65300 5205493.38300
RMSE_XY: 1.40000
IMAGE_SOURCE: BLACK AND WHITE FILM
SOURCE_IMAGE_ID: NAPP 9089 068
SOURCE_IMAGE_DATE: 1996 07 07
SOURCE_DEM_DATE: 1993 00 00
AGENCY: WESTERN MAPPING CENTER (WMC)
PRODUCER: UNDEFINED
PRODUCTION_SYSTEM: GIS/MAGIC
COMPRESSION: UNDEFINED
STANDARD_VERSION: 1996 12
METADATA_DATE: 2000 11 16
DATA_FILE_SIZE: 41772531
BYTE_COUNT: 5487
