FILENAME: O4710664.SWS.1112574.tif
QUADRANGLE_NAME: HEDSTROM LAKE SE
QUADRANT: SW
WEST_LONGITUDE: -106 7 30.00000
EAST_LONGITUDE: -106 3 45.00000
NORTH_LATITUDE: 47 3 45.00000
SOUTH_LATITUDE: 47 0 0.00000
PRODUCTION_DATE: 2000 11 14
RASTER_ORDER: LEFT_RIGHT/TOP_BOTTOM
BAND_ORGANIZATION: SINGLE FILE
BAND_CONTENT: BLACK&WHITE
BAND_CONTENT: UNDEFINED
BAND_CONTENT: UNDEFINED
BITS_PER_PIXEL: 8
SAMPLES_AND_LINES: 5493 7616
HORIZONTAL_DATUM: NAD83
HORIZONTAL_COORDINATE_SYSTEM: UTM
COORDINATE_ZONE: 13
HORIZONTAL_UNITS: METERS
HORIZONTAL_RESOLUTION: 1.00000
SECONDARY_HORIZONTAL_DATUM: NAD27
XY_ORIGIN: 414126.00000 5213025.00000
SECONDARY_XY_ORIGIN: 414167.58700 5212805.67000
NATION: US
NATION: "SCIENCE
STATE: MT
NW_QUAD_CORNER_XY: 414571.40200 5212723.58900
NE_QUAD_CORNER_XY: 419317.39600 5212657.25400
SE_QUAD_CORNERY_XY: 419223.14200 5205711.90100
SW_QUAD_CORNER_XY: 414471.60300 5205778.24600
SECONDARY_NW_QUAD_XY: 414568.76600 5212505.04600
SECONDARY_NE_QUAD_XY: 419314.90600 5212438.70900
SECONDARY_SE_QUAD_XY: 419220.65300 5205493.38300
SECONDARY_SW_QUAD_XY: 414468.96700 5205559.73000
RMSE_XY: 2.00000
IMAGE_SOURCE: BLACK AND WHITE FILM
SOURCE_IMAGE_ID: NAPP 9090 039
SOURCE_IMAGE_DATE: 1996 07 07
SOURCE_DEM_DATE: 1993 00 00
AGENCY: WESTERN MAPPING CENTER (WMC)
PRODUCER: UNDEFINED
PRODUCTION_SYSTEM: GIS/MAGIC
COMPRESSION: UNDEFINED
STANDARD_VERSION: 1996 12
METADATA_DATE: 2000 11 16
DATA_FILE_SIZE: 41840181
BYTE_COUNT: 5493
