FILENAME: O4710662.NES.1112435.tif
QUADRANGLE_NAME: SLEEPY HOLLOW
QUADRANT: NE
WEST_LONGITUDE: -106 18 45.00000
EAST_LONGITUDE: -106 15 0.00000
NORTH_LATITUDE: 47 7 30.00000
SOUTH_LATITUDE: 47 3 45.00000
PRODUCTION_DATE: 2000 11 14
RASTER_ORDER: LEFT_RIGHT/TOP_BOTTOM
BAND_ORGANIZATION: SINGLE FILE
BAND_CONTENT: BLACK&WHITE
BAND_CONTENT: UNDEFINED
BAND_CONTENT: UNDEFINED
BITS_PER_PIXEL: 8
SAMPLES_AND_LINES: 5505 7627
HORIZONTAL_DATUM: NAD83
HORIZONTAL_COORDINATE_SYSTEM: UTM
COORDINATE_ZONE: 13
HORIZONTAL_UNITS: METERS
HORIZONTAL_RESOLUTION: 1.00000
SECONDARY_HORIZONTAL_DATUM: NAD27
XY_ORIGIN: 399987.00000 5220192.00000
SECONDARY_XY_ORIGIN: 400028.63500 5219972.84100
NATION: US
NATION: "SCIENCE
STATE: MT
NW_QUAD_CORNER_XY: 400450.02300 5219890.72700
NE_QUAD_CORNER_XY: 405190.44200 5219813.02900
SE_QUAD_CORNERY_XY: 405079.43700 5212867.63500
SW_QUAD_CORNER_XY: 400333.46600 5212945.34500
SECONDARY_NW_QUAD_XY: 400446.94700 5219672.16300
SECONDARY_NE_QUAD_XY: 405187.51200 5219594.46200
SECONDARY_SE_QUAD_XY: 405076.50800 5212649.09500
SECONDARY_SW_QUAD_XY: 400330.39000 5212726.80800
RMSE_XY: 2.60000
IMAGE_SOURCE: BLACK AND WHITE FILM
SOURCE_IMAGE_ID: NAPP 9106 142
SOURCE_IMAGE_DATE: 1996 08 07
SOURCE_DEM_DATE: 1993 00 00
AGENCY: WESTERN MAPPING CENTER (WMC)
PRODUCER: UNDEFINED
PRODUCTION_SYSTEM: GIS/MAGIC
COMPRESSION: UNDEFINED
STANDARD_VERSION: 1996 12
METADATA_DATE: 2000 11 16
DATA_FILE_SIZE: 41992140
BYTE_COUNT: 5505
