FILENAME: O4710662.NWS.1112436.tif
QUADRANGLE_NAME: SLEEPY HOLLOW
QUADRANT: NW
WEST_LONGITUDE: -106 22 30.00000
EAST_LONGITUDE: -106 18 45.00000
NORTH_LATITUDE: 47 7 30.00000
SOUTH_LATITUDE: 47 3 45.00000
PRODUCTION_DATE: 2000 11 13
RASTER_ORDER: LEFT_RIGHT/TOP_BOTTOM
BAND_ORGANIZATION: SINGLE FILE
BAND_CONTENT: BLACK&WHITE
BAND_CONTENT: UNDEFINED
BAND_CONTENT: UNDEFINED
BITS_PER_PIXEL: 8
SAMPLES_AND_LINES: 5511 7630
HORIZONTAL_DATUM: NAD83
HORIZONTAL_COORDINATE_SYSTEM: UTM
COORDINATE_ZONE: 13
HORIZONTAL_UNITS: METERS
HORIZONTAL_RESOLUTION: 1.00000
SECONDARY_HORIZONTAL_DATUM: NAD27
XY_ORIGIN: 395241.00000 5220273.00000
SECONDARY_XY_ORIGIN: 395282.64100 5220053.82300
NATION: US
NATION: "SCIENCE
STATE: MT
NW_QUAD_CORNER_XY: 395709.61200 5219972.21600
NE_QUAD_CORNER_XY: 400450.02300 5219890.72700
SE_QUAD_CORNERY_XY: 400333.46600 5212945.34500
SW_QUAD_CORNER_XY: 395587.50300 5213026.84700
SECONDARY_NW_QUAD_XY: 395706.39000 5219753.65500
SECONDARY_NE_QUAD_XY: 400446.94700 5219672.16300
SECONDARY_SE_QUAD_XY: 400330.39000 5212726.80800
SECONDARY_SW_QUAD_XY: 395584.28100 5212808.31300
RMSE_XY: 2.40000
IMAGE_SOURCE: BLACK AND WHITE FILM
SOURCE_IMAGE_ID: NAPP 9106 185
SOURCE_IMAGE_DATE: 1996 08 07
SOURCE_DEM_DATE: 1993 00 00
AGENCY: WESTERN MAPPING CENTER (WMC)
PRODUCER: UNDEFINED
PRODUCTION_SYSTEM: GIS/MAGIC
COMPRESSION: UNDEFINED
STANDARD_VERSION: 1996 12
METADATA_DATE: 2000 11 16
DATA_FILE_SIZE: 42054441
BYTE_COUNT: 5511
