FILENAME: O4710662.SES.1112437.tif
QUADRANGLE_NAME: SLEEPY HOLLOW
QUADRANT: SE
WEST_LONGITUDE: -106 18 45.00000
EAST_LONGITUDE: -106 15 0.00000
NORTH_LATITUDE: 47 3 45.00000
SOUTH_LATITUDE: 47 0 0.00000
PRODUCTION_DATE: 2000 11 14
RASTER_ORDER: LEFT_RIGHT/TOP_BOTTOM
BAND_ORGANIZATION: SINGLE FILE
BAND_CONTENT: BLACK&WHITE
BAND_CONTENT: UNDEFINED
BAND_CONTENT: UNDEFINED
BITS_PER_PIXEL: 8
SAMPLES_AND_LINES: 5510 7627
HORIZONTAL_DATUM: NAD83
HORIZONTAL_COORDINATE_SYSTEM: UTM
COORDINATE_ZONE: 13
HORIZONTAL_UNITS: METERS
HORIZONTAL_RESOLUTION: 1.00000
SECONDARY_HORIZONTAL_DATUM: NAD27
XY_ORIGIN: 399871.00000 5213247.00000
SECONDARY_XY_ORIGIN: 399912.64600 5213027.77500
NATION: US
NATION: "SCIENCE
STATE: MT
NW_QUAD_CORNER_XY: 400333.46600 5212945.34500
NE_QUAD_CORNER_XY: 405079.43700 5212867.63500
SE_QUAD_CORNERY_XY: 404968.54600 5205922.31300
SW_QUAD_CORNER_XY: 400217.02800 5206000.03500
SECONDARY_NW_QUAD_XY: 400330.39000 5212726.80800
SECONDARY_NE_QUAD_XY: 405076.50800 5212649.09500
SECONDARY_SE_QUAD_XY: 404965.61700 5205703.80200
SECONDARY_SW_QUAD_XY: 400213.95300 5205781.52600
RMSE_XY: 2.10000
IMAGE_SOURCE: BLACK AND WHITE FILM
SOURCE_IMAGE_ID: NAPP 9106 140
SOURCE_IMAGE_DATE: 1996 08 07
SOURCE_DEM_DATE: 1993 00 00
AGENCY: WESTERN MAPPING CENTER (WMC)
PRODUCER: UNDEFINED
PRODUCTION_SYSTEM: GIS/MAGIC
COMPRESSION: UNDEFINED
STANDARD_VERSION: 1996 12
METADATA_DATE: 2000 11 16
DATA_FILE_SIZE: 42030280
BYTE_COUNT: 5510
