FILENAME: O4710660.SES.1112373.tif
QUADRANGLE_NAME: COHAGEN
QUADRANT: SE
WEST_LONGITUDE: -106 33 45.00000
EAST_LONGITUDE: -106 30 0.00000
NORTH_LATITUDE: 47 3 45.00000
SOUTH_LATITUDE: 47 0 0.00000
PRODUCTION_DATE: 2000 11 14
RASTER_ORDER: LEFT_RIGHT/TOP_BOTTOM
BAND_ORGANIZATION: SINGLE FILE
BAND_CONTENT: BLACK&WHITE
BAND_CONTENT: UNDEFINED
BAND_CONTENT: UNDEFINED
BITS_PER_PIXEL: 8
SAMPLES_AND_LINES: 5533 7642
HORIZONTAL_DATUM: NAD83
HORIZONTAL_COORDINATE_SYSTEM: UTM
COORDINATE_ZONE: 13
HORIZONTAL_UNITS: METERS
HORIZONTAL_RESOLUTION: 1.00000
SECONDARY_HORIZONTAL_DATUM: NAD27
XY_ORIGIN: 380864.00000 5213595.00000
SECONDARY_XY_ORIGIN: 380905.79200 5213375.69800
NATION: US
NATION: "SCIENCE
STATE: MT
NW_QUAD_CORNER_XY: 381349.67000 5213294.10700
NE_QUAD_CORNER_XY: 386095.60500 5213201.22800
SE_QUAD_CORNERY_XY: 385962.52700 5206255.95700
SW_QUAD_CORNER_XY: 381211.04500 5206348.85000
SECONDARY_NW_QUAD_XY: 381346.00900 5213075.58100
SECONDARY_NE_QUAD_XY: 386092.09000 5212982.69900
SECONDARY_SE_QUAD_XY: 385959.01300 5206037.45600
SECONDARY_SW_QUAD_XY: 381207.38400 5206130.35200
RMSE_XY: 1.90000
IMAGE_SOURCE: BLACK AND WHITE FILM
SOURCE_IMAGE_ID: NAPP 9110 075
SOURCE_IMAGE_DATE: 1996 08 11
SOURCE_DEM_DATE: 1993 00 00
AGENCY: WESTERN MAPPING CENTER (WMC)
PRODUCER: UNDEFINED
PRODUCTION_SYSTEM: GIS/MAGIC
COMPRESSION: UNDEFINED
STANDARD_VERSION: 1996 12
METADATA_DATE: 2000 11 16
DATA_FILE_SIZE: 42288719
BYTE_COUNT: 5533
