FILENAME: O4710659.SES.1112312.tif
QUADRANGLE_NAME: COHAGEN SW
QUADRANT: SE
WEST_LONGITUDE: -106 41 15.00000
EAST_LONGITUDE: -106 37 30.00000
NORTH_LATITUDE: 47 3 45.00000
SOUTH_LATITUDE: 47 0 0.00000
PRODUCTION_DATE: 2000 11 13
RASTER_ORDER: LEFT_RIGHT/TOP_BOTTOM
BAND_ORGANIZATION: SINGLE FILE
BAND_CONTENT: BLACK&WHITE
BAND_CONTENT: UNDEFINED
BAND_CONTENT: UNDEFINED
BITS_PER_PIXEL: 8
SAMPLES_AND_LINES: 5544 7650
HORIZONTAL_DATUM: NAD83
HORIZONTAL_COORDINATE_SYSTEM: UTM
COORDINATE_ZONE: 13
HORIZONTAL_UNITS: METERS
HORIZONTAL_RESOLUTION: 1.00000
SECONDARY_HORIZONTAL_DATUM: NAD27
XY_ORIGIN: 371361.00000 5213793.00000
SECONDARY_XY_ORIGIN: 371403.03800 5213573.63200
NATION: US
NATION: "SCIENCE
STATE: MT
NW_QUAD_CORNER_XY: 371857.83100 5213491.24300
NE_QUAD_CORNER_XY: 376603.74500 5213390.77900
SE_QUAD_CORNERY_XY: 376459.57200 5206445.53700
SW_QUAD_CORNER_XY: 371708.11000 5206546.01700
SECONDARY_NW_QUAD_XY: 371853.87600 5213272.72300
SECONDARY_NE_QUAD_XY: 376599.93700 5213172.25600
SECONDARY_SE_QUAD_XY: 376455.76500 5206227.04200
SECONDARY_SW_QUAD_XY: 371704.15600 5206327.52500
RMSE_XY: 1.60000
IMAGE_SOURCE: BLACK AND WHITE FILM
SOURCE_IMAGE_ID: NAPP 9111 093
SOURCE_IMAGE_DATE: 1996 08 11
SOURCE_DEM_DATE: 1993 00 00
AGENCY: WESTERN MAPPING CENTER (WMC)
PRODUCER: UNDEFINED
PRODUCTION_SYSTEM: GIS/MAGIC
COMPRESSION: UNDEFINED
STANDARD_VERSION: 1996 12
METADATA_DATE: 2000 11 17
DATA_FILE_SIZE: 42417144
BYTE_COUNT: 5544
