FILENAME: O4710656.SES.1112585.tif
QUADRANGLE_NAME: HEDSTROM LAKE
QUADRANT: SE
WEST_LONGITUDE: -106 3 45.00000
EAST_LONGITUDE: -106 0 0.00000
NORTH_LATITUDE: 47 11 15.00000
SOUTH_LATITUDE: 47 7 30.00000
PRODUCTION_DATE: 2000 11 14
RASTER_ORDER: LEFT_RIGHT/TOP_BOTTOM
BAND_ORGANIZATION: SINGLE FILE
BAND_CONTENT: BLACK&WHITE
BAND_CONTENT: UNDEFINED
BAND_CONTENT: UNDEFINED
BITS_PER_PIXEL: 8
SAMPLES_AND_LINES: 5477 7611
HORIZONTAL_DATUM: NAD83
HORIZONTAL_COORDINATE_SYSTEM: UTM
COORDINATE_ZONE: 13
HORIZONTAL_UNITS: METERS
HORIZONTAL_RESOLUTION: 1.00000
SECONDARY_HORIZONTAL_DATUM: NAD27
XY_ORIGIN: 419066.00000 5226849.00000
SECONDARY_XY_ORIGIN: 419107.45700 5226629.69000
NATION: US
NATION: "SCIENCE
STATE: MT
NW_QUAD_CORNER_XY: 419506.19300 5226548.18200
NE_QUAD_CORNER_XY: 424241.08600 5226485.65800
SE_QUAD_CORNERY_XY: 424152.19600 5219540.14700
SW_QUAD_CORNER_XY: 419411.74600 5219602.68100
SECONDARY_NW_QUAD_XY: 419503.70300 5226329.58300
SECONDARY_NE_QUAD_XY: 424238.74200 5226267.05700
SECONDARY_SE_QUAD_XY: 424149.85200 5219321.57200
SECONDARY_SW_QUAD_XY: 419409.25600 5219384.10800
RMSE_XY: 1.60000
IMAGE_SOURCE: BLACK AND WHITE FILM
SOURCE_IMAGE_ID: NAPP 9089 072
SOURCE_IMAGE_DATE: 1996 07 07
SOURCE_IMAGE_ID: NAPP 9089 070
SOURCE_IMAGE_DATE: 1996 07 07
SOURCE_DEM_DATE: 1993 00 00
AGENCY: WESTERN MAPPING CENTER (WMC)
PRODUCER: UNDEFINED
PRODUCTION_SYSTEM: GIS/MAGIC
COMPRESSION: UNDEFINED
STANDARD_VERSION: 1996 12
METADATA_DATE: 2000 11 16
DATA_FILE_SIZE: 41690924
BYTE_COUNT: 5477
