FILENAME: O4710655.SWS.1112486.tif
QUADRANGLE_NAME: HEDSTROM LAKE NW
QUADRANT: SW
WEST_LONGITUDE: -106 15 0.00000
EAST_LONGITUDE: -106 11 15.00000
NORTH_LATITUDE: 47 11 15.00000
SOUTH_LATITUDE: 47 7 30.00000
PRODUCTION_DATE: 2000 11 14
RASTER_ORDER: LEFT_RIGHT/TOP_BOTTOM
BAND_ORGANIZATION: SINGLE FILE
BAND_CONTENT: BLACK&WHITE
BAND_CONTENT: UNDEFINED
BAND_CONTENT: UNDEFINED
BITS_PER_PIXEL: 8
SAMPLES_AND_LINES: 5494 7622
HORIZONTAL_DATUM: NAD83
HORIZONTAL_COORDINATE_SYSTEM: UTM
COORDINATE_ZONE: 13
HORIZONTAL_UNITS: METERS
HORIZONTAL_RESOLUTION: 1.00000
SECONDARY_HORIZONTAL_DATUM: NAD27
XY_ORIGIN: 404844.00000 5227059.00000
SECONDARY_XY_ORIGIN: 404885.61600 5226839.93100
NATION: US
NATION: "SCIENCE
STATE: MT
NW_QUAD_CORNER_XY: 405301.56000 5226758.49500
NE_QUAD_CORNER_XY: 410036.43000 5226684.60000
SE_QUAD_CORNERY_XY: 409930.86900 5219739.12200
SW_QUAD_CORNER_XY: 405190.44200 5219813.02900
SECONDARY_NW_QUAD_XY: 405298.63000 5226539.90300
SECONDARY_NE_QUAD_XY: 410033.64700 5226466.00600
SECONDARY_SE_QUAD_XY: 409928.08600 5219520.55300
SECONDARY_SW_QUAD_XY: 405187.51200 5219594.46200
RMSE_XY: 3.10000
IMAGE_SOURCE: BLACK AND WHITE FILM
SOURCE_IMAGE_ID: NAPP 10723 069
SOURCE_IMAGE_DATE: 1997 08 28
SOURCE_DEM_DATE: 1993 00 00
AGENCY: WESTERN MAPPING CENTER (WMC)
PRODUCER: UNDEFINED
PRODUCTION_SYSTEM: GIS/MAGIC
COMPRESSION: UNDEFINED
STANDARD_VERSION: 1996 12
METADATA_DATE: 2000 11 16
DATA_FILE_SIZE: 41880762
BYTE_COUNT: 5494
